BEGIN:VCALENDAR
VERSION:2.0
PRODID:-//druckwerk - ECPv6.15.14//NONSGML v1.0//EN
CALSCALE:GREGORIAN
METHOD:PUBLISH
X-WR-CALNAME:druckwerk
X-ORIGINAL-URL:https://druckwerk.ch
X-WR-CALDESC:Veranstaltungen für druckwerk
REFRESH-INTERVAL;VALUE=DURATION:PT1H
X-Robots-Tag:noindex
X-PUBLISHED-TTL:PT1H
BEGIN:VTIMEZONE
TZID:Europe/Zurich
BEGIN:DAYLIGHT
TZOFFSETFROM:+0100
TZOFFSETTO:+0200
TZNAME:CEST
DTSTART:20220327T010000
END:DAYLIGHT
BEGIN:STANDARD
TZOFFSETFROM:+0200
TZOFFSETTO:+0100
TZNAME:CET
DTSTART:20221030T010000
END:STANDARD
BEGIN:DAYLIGHT
TZOFFSETFROM:+0100
TZOFFSETTO:+0200
TZNAME:CEST
DTSTART:20230326T010000
END:DAYLIGHT
BEGIN:STANDARD
TZOFFSETFROM:+0200
TZOFFSETTO:+0100
TZNAME:CET
DTSTART:20231029T010000
END:STANDARD
BEGIN:DAYLIGHT
TZOFFSETFROM:+0100
TZOFFSETTO:+0200
TZNAME:CEST
DTSTART:20240331T010000
END:DAYLIGHT
BEGIN:STANDARD
TZOFFSETFROM:+0200
TZOFFSETTO:+0100
TZNAME:CET
DTSTART:20241027T010000
END:STANDARD
END:VTIMEZONE
BEGIN:VEVENT
DTSTART;TZID=Europe/Zurich:20231021T110000
DTEND;TZID=Europe/Zurich:20231022T160000
DTSTAMP:20260422T123923
CREATED:20250218T144231Z
LAST-MODIFIED:20250218T144231Z
UID:3579-1697886000-1697990400@druckwerk.ch
SUMMARY:Moku Hanga
DESCRIPTION:Im Kurs erlernten sie die traditionelle Herstellung eines japanischen Holzdrucks in mehreren Farben. Sie wurden in die Verwendung der japanischen Werkzeuge\, die Mixtur der Farben und die spezifische Druckmethode eingeführt.\nSie entwarfen die Schwarzlinien Ihres Sujets\, schnitten diese in den Holzstock und planten eine Farbplatte. Schliesslich druckten sie alle Platten übereinander und erhalten so einen mehrfarbigen Druck. \nKursleiterin: Ayako Kyodo \n 
URL:https://druckwerk.ch/veranstaltung/moku-hanga-2023/
LOCATION:druckwerk\, Burgweg 7\, Basel\, 4058\, Switzerland
CATEGORIES:Druckfrisch
ATTACH;FMTTYPE=image/jpeg:https://druckwerk.ch/wp-content/uploads/2025/02/69f45d3ee56a99a825852d4e8a4aa2c1_f1620.jpg
ORGANIZER;CN="druckwerk":MAILTO:info@druckwerk.ch
END:VEVENT
END:VCALENDAR