BEGIN:VCALENDAR
VERSION:2.0
PRODID:-//druckwerk - ECPv6.15.14//NONSGML v1.0//EN
CALSCALE:GREGORIAN
METHOD:PUBLISH
X-WR-CALNAME:druckwerk
X-ORIGINAL-URL:https://druckwerk.ch
X-WR-CALDESC:Veranstaltungen für druckwerk
REFRESH-INTERVAL;VALUE=DURATION:PT1H
X-Robots-Tag:noindex
X-PUBLISHED-TTL:PT1H
BEGIN:VTIMEZONE
TZID:Europe/Zurich
BEGIN:DAYLIGHT
TZOFFSETFROM:+0100
TZOFFSETTO:+0200
TZNAME:CEST
DTSTART:20250330T010000
END:DAYLIGHT
BEGIN:STANDARD
TZOFFSETFROM:+0200
TZOFFSETTO:+0100
TZNAME:CET
DTSTART:20251026T010000
END:STANDARD
BEGIN:DAYLIGHT
TZOFFSETFROM:+0100
TZOFFSETTO:+0200
TZNAME:CEST
DTSTART:20260329T010000
END:DAYLIGHT
BEGIN:STANDARD
TZOFFSETFROM:+0200
TZOFFSETTO:+0100
TZNAME:CET
DTSTART:20261025T010000
END:STANDARD
BEGIN:DAYLIGHT
TZOFFSETFROM:+0100
TZOFFSETTO:+0200
TZNAME:CEST
DTSTART:20270328T010000
END:DAYLIGHT
BEGIN:STANDARD
TZOFFSETFROM:+0200
TZOFFSETTO:+0100
TZNAME:CET
DTSTART:20271031T010000
END:STANDARD
END:VTIMEZONE
BEGIN:VEVENT
DTSTART;TZID=Europe/Zurich:20260108T140000
DTEND;TZID=Europe/Zurich:20260108T170000
DTSTAMP:20260422T124438
CREATED:20251209T183508Z
LAST-MODIFIED:20251210T102531Z
UID:10002385-1767880800-1767891600@druckwerk.ch
SUMMARY:Offenes Atelier am Nachmittag
DESCRIPTION:Jeden Donnerstag\, 14-17 Uhr \nWenn Sie Fragen haben oder diesen Kurs am nächsten Donnerstagnachmittag besuchen möchten\, wenden Sie sich bitte an Marcel Mayer. \n  \n\n\n\n\nEinführung / Assistenz für alle Techniken im druckwerk. Individuelle Begleitung bei Arbeiten in den Bereichen Buchdruck\, Hochdruck (Holz-und Linolschnitt)\, Tiefdruck und Lithographie.\n\n\n\n\n  \nLeitung: Marcel Mayer \n  \nKosten\nEin Kursabend kostet für Nichtmitglieder CHF 60\, für Mitglieder CHF 50 \nDruck-Pass für zehn Abende: CHF 500\nfür Studierende unter 25 Jahren CHF 300 \nfür Vereinsmitglieder ist das elfte Mal gratis \nDie Jahresmiete Ateliernutzung berechtigt\, den Kurs für einen Unkostenbeitrag von CHF 10 zu besuchen. \n  \nDas Offene Atelier findet nicht in den Schulferien statt. \n  \n\n    \n        \n            \n                \n                \n                \n                \n                \n                \n            \n        \n        \n    \n\n 
URL:https://druckwerk.ch/veranstaltung/offenes-atelier-am-nachmittag/2026-01-08/
LOCATION:druckwerk\, Burgweg 7\, Basel\, 4058\, Switzerland
CATEGORIES:Offenes Atelier Nachmittag,Wöchentliche Kurse
ATTACH;FMTTYPE=image/jpeg:https://druckwerk.ch/wp-content/uploads/2025/12/f1fe18c25736af91fc8a162c9beb7d6f_f531.jpg
ORGANIZER;CN="druckwerk":MAILTO:info@druckwerk.ch
END:VEVENT
END:VCALENDAR