BEGIN:VCALENDAR
VERSION:2.0
PRODID:-//druckwerk - ECPv6.15.14//NONSGML v1.0//EN
CALSCALE:GREGORIAN
METHOD:PUBLISH
X-WR-CALNAME:druckwerk
X-ORIGINAL-URL:https://druckwerk.ch
X-WR-CALDESC:Veranstaltungen für druckwerk
REFRESH-INTERVAL;VALUE=DURATION:PT1H
X-Robots-Tag:noindex
X-PUBLISHED-TTL:PT1H
BEGIN:VTIMEZONE
TZID:Europe/Zurich
BEGIN:DAYLIGHT
TZOFFSETFROM:+0100
TZOFFSETTO:+0200
TZNAME:CEST
DTSTART:20190331T010000
END:DAYLIGHT
BEGIN:STANDARD
TZOFFSETFROM:+0200
TZOFFSETTO:+0100
TZNAME:CET
DTSTART:20191027T010000
END:STANDARD
BEGIN:DAYLIGHT
TZOFFSETFROM:+0100
TZOFFSETTO:+0200
TZNAME:CEST
DTSTART:20200329T010000
END:DAYLIGHT
BEGIN:STANDARD
TZOFFSETFROM:+0200
TZOFFSETTO:+0100
TZNAME:CET
DTSTART:20201025T010000
END:STANDARD
BEGIN:DAYLIGHT
TZOFFSETFROM:+0100
TZOFFSETTO:+0200
TZNAME:CEST
DTSTART:20210328T010000
END:DAYLIGHT
BEGIN:STANDARD
TZOFFSETFROM:+0200
TZOFFSETTO:+0100
TZNAME:CET
DTSTART:20211031T010000
END:STANDARD
END:VTIMEZONE
BEGIN:VEVENT
DTSTART;TZID=Europe/Zurich:20200822T110000
DTEND;TZID=Europe/Zurich:20200823T160000
DTSTAMP:20260423T043750
CREATED:20250218T134039Z
LAST-MODIFIED:20250218T134056Z
UID:3361-1598094000-1598198400@druckwerk.ch
SUMMARY:«Radierung kann noch mehr!» Polymertiefdruck
DESCRIPTION:Der Kurs richtete sich an Druckkünstler\, welche den Tiefdruck für ihre Arbeit nutzten und ihre Ausdruckskraft um moderne Verfahren bereichern wollten. Im Kurs konnten die Besucher erfahren\, welche Möglichkeiten es neben den klassischen Techniken gibt\, um Tiefdruckplatten herzustellen. Unkomplizierte und experimentelle Arbeitsweisen ermöglichten überraschende Ergebnisse. Ohne giftige Substanzen hatten die Besucher durch ein neues Belichtungsverfahren die Möglichkeit\, sogar\, Pinselzeichnungen\, Schrift und auf Folie ausgedruckte Fotos für den Tiefdruck zu nutzen. \nKursleitung: Sven Wohlgemuth \n  \n\n    \n        \n            \n                \n                \n                \n                \n                \n                \n                \n                \n            \n        \n        \n    \n\n 
URL:https://druckwerk.ch/veranstaltung/radierung-kann-noch-mehr-2020/
LOCATION:druckwerk\, Burgweg 7\, Basel\, 4058\, Switzerland
CATEGORIES:Druckfrisch
ATTACH;FMTTYPE=image/jpeg:https://druckwerk.ch/wp-content/uploads/2025/02/c8afb02482f7a2e14ec59ee135f74475_f556.jpg
ORGANIZER;CN="druckwerk":MAILTO:info@druckwerk.ch
END:VEVENT
END:VCALENDAR