BEGIN:VCALENDAR
VERSION:2.0
PRODID:-//druckwerk - ECPv6.15.14//NONSGML v1.0//EN
CALSCALE:GREGORIAN
METHOD:PUBLISH
X-WR-CALNAME:druckwerk
X-ORIGINAL-URL:https://druckwerk.ch
X-WR-CALDESC:Veranstaltungen für druckwerk
REFRESH-INTERVAL;VALUE=DURATION:PT1H
X-Robots-Tag:noindex
X-PUBLISHED-TTL:PT1H
BEGIN:VTIMEZONE
TZID:Europe/Zurich
BEGIN:DAYLIGHT
TZOFFSETFROM:+0100
TZOFFSETTO:+0200
TZNAME:CEST
DTSTART:20200329T010000
END:DAYLIGHT
BEGIN:STANDARD
TZOFFSETFROM:+0200
TZOFFSETTO:+0100
TZNAME:CET
DTSTART:20201025T010000
END:STANDARD
BEGIN:DAYLIGHT
TZOFFSETFROM:+0100
TZOFFSETTO:+0200
TZNAME:CEST
DTSTART:20210328T010000
END:DAYLIGHT
BEGIN:STANDARD
TZOFFSETFROM:+0200
TZOFFSETTO:+0100
TZNAME:CET
DTSTART:20211031T010000
END:STANDARD
BEGIN:DAYLIGHT
TZOFFSETFROM:+0100
TZOFFSETTO:+0200
TZNAME:CEST
DTSTART:20220327T010000
END:DAYLIGHT
BEGIN:STANDARD
TZOFFSETFROM:+0200
TZOFFSETTO:+0100
TZNAME:CET
DTSTART:20221030T010000
END:STANDARD
END:VTIMEZONE
BEGIN:VEVENT
DTSTART;TZID=Europe/Zurich:20210821T110000
DTEND;TZID=Europe/Zurich:20210822T160000
DTSTAMP:20260423T030335
CREATED:20250218T134532Z
LAST-MODIFIED:20250218T134532Z
UID:3382-1629543600-1629648000@druckwerk.ch
SUMMARY:«Radierung kann noch mehr!» Polymertiefdruck
DESCRIPTION:In diesem Kurs konnten Künstlerinnen und Künstler\, welche den Tiefdruck für ihre Arbeit nutzen\, erlernen\, wie mit modernen Verfahren die Ausdruckskraft bereichert werden kann. Sie haben erfahren\, welche Möglichkeiten es neben den klassischen Techniken gibt\, um Tiefdruckplatten herzustellen. Unkomplizierte und experimentelle Arbeitsweisen ermöglichen überraschende Ergebnisse. Ohne giftige Substanzen haben die Teilnehmerinnen und Teilnehmer durch ein neues Belichtungsverfahren die Möglichkeit\, sogar\, Pinselzeichnungen\, Schrift und auf Folie ausgedruckte Fotos für den Tiefdruck zu nutzen. \nKursleitung: Sven Wohlgemuth \n  \n\n    \n        \n            \n                \n                \n            \n        \n        \n    \n\n 
URL:https://druckwerk.ch/veranstaltung/radierung-kann-noch-mehr-2021/
LOCATION:druckwerk\, Burgweg 7\, Basel\, 4058\, Switzerland
CATEGORIES:Druckfrisch
ATTACH;FMTTYPE=image/jpeg:https://druckwerk.ch/wp-content/uploads/2025/02/9bb3a49e7d84f9feb7ba6feafe75c549_f1108.jpg
ORGANIZER;CN="druckwerk":MAILTO:info@druckwerk.ch
END:VEVENT
END:VCALENDAR