BEGIN:VCALENDAR
VERSION:2.0
PRODID:-//druckwerk - ECPv6.15.14//NONSGML v1.0//EN
CALSCALE:GREGORIAN
METHOD:PUBLISH
X-ORIGINAL-URL:https://druckwerk.ch
X-WR-CALDESC:Veranstaltungen für druckwerk
REFRESH-INTERVAL;VALUE=DURATION:PT1H
X-Robots-Tag:noindex
X-PUBLISHED-TTL:PT1H
BEGIN:VTIMEZONE
TZID:Europe/Zurich
BEGIN:DAYLIGHT
TZOFFSETFROM:+0100
TZOFFSETTO:+0200
TZNAME:CEST
DTSTART:20250330T010000
END:DAYLIGHT
BEGIN:STANDARD
TZOFFSETFROM:+0200
TZOFFSETTO:+0100
TZNAME:CET
DTSTART:20251026T010000
END:STANDARD
BEGIN:DAYLIGHT
TZOFFSETFROM:+0100
TZOFFSETTO:+0200
TZNAME:CEST
DTSTART:20260329T010000
END:DAYLIGHT
BEGIN:STANDARD
TZOFFSETFROM:+0200
TZOFFSETTO:+0100
TZNAME:CET
DTSTART:20261025T010000
END:STANDARD
BEGIN:DAYLIGHT
TZOFFSETFROM:+0100
TZOFFSETTO:+0200
TZNAME:CEST
DTSTART:20270328T010000
END:DAYLIGHT
BEGIN:STANDARD
TZOFFSETFROM:+0200
TZOFFSETTO:+0100
TZNAME:CET
DTSTART:20271031T010000
END:STANDARD
END:VTIMEZONE
BEGIN:VEVENT
DTSTART;TZID=Europe/Zurich:20260509T110000
DTEND;TZID=Europe/Zurich:20260509T160000
DTSTAMP:20260419T192510
CREATED:20260304T094452Z
LAST-MODIFIED:20260403T103736Z
UID:10002700-1778324400-1778342400@druckwerk.ch
SUMMARY:druckwerk als "machine imaginaire"
DESCRIPTION:Ein generativer Druckgrafik-Workshop \nInspiriert von der aktuellen Ausstellung Möglichkeiten von Vera Molnár im Kunstmuseum Basel wird druckwerk zur Maschine. Die Workshop-Teilnehmer sind die arbeitenden Komponenten\, die eine Reihe von Schritt-für-Schritt-Anweisungen ausführen\, um einzigartige und unvorhersehbare Ergebnisse zu erzielen.\nEinschränkungen\, kontrollierte Veränderungen und Zufallselemente werden mit traditionellen analogen Drucktechniken ins Spiel gebracht\, um Variationen\, Überraschungen und Entdeckungen zu erforschen. \nKurssprache: Englisch/Deutsch\nKursleitung: Lucinda Tanner\n \nUm sich für diesen Kurs anzumelden\, schreiben Sie bitte an office@druckwerk.ch. \nSamstag\, 9. Mai 2026\, 11 – 16 Uhr\nSonntag\, 7. Juni 2026\, 11 – 16 Uhr \nKosten:\ninkl. Farben und Verbrauchsmaterialien\, exkl. Papier und Druckplatten\n\nCHF 120  für einen eintägigen Kurs\nFür Mitglieder des Vereins druckwerks und Personen mit der Kulturlegi:\nCHF 80für einen eintägigen Kurs \nAnmeldebedingungen: Die Anmeldungen werden nach der Reihenfolge des Eingangs berücksichtigt. Kurzfristige Anmeldungen sind möglich\, sofern freie Plätze zur Verfügung stehen.\nBei Abmeldungen\, die erst 5 Tage vor Kursbeginn erfolgen\, ist die Hälfte des Kursgeldes zu entrichten. Bei Nicht-Erscheinen wird das ganze Kursgeld fällig. \n\nVersicherung: ist Sache der Teilnehmenden. \n 
URL:https://druckwerk.ch/veranstaltung/druckwerk-als-machine-imaginaire/2026-05-09/
LOCATION:druckwerk\, Burgweg 7\, Basel\, 4058\, Switzerland
CATEGORIES:Druckfrisch
ATTACH;FMTTYPE=image/jpeg:https://druckwerk.ch/wp-content/uploads/2026/03/generative-workshop.jpg
ORGANIZER;CN="druckwerk":MAILTO:info@druckwerk.ch
END:VEVENT
END:VCALENDAR