BEGIN:VCALENDAR
VERSION:2.0
PRODID:-//druckwerk - ECPv6.15.14//NONSGML v1.0//EN
CALSCALE:GREGORIAN
METHOD:PUBLISH
X-WR-CALNAME:druckwerk
X-ORIGINAL-URL:https://druckwerk.ch
X-WR-CALDESC:Veranstaltungen für druckwerk
REFRESH-INTERVAL;VALUE=DURATION:PT1H
X-Robots-Tag:noindex
X-PUBLISHED-TTL:PT1H
BEGIN:VTIMEZONE
TZID:Europe/Zurich
BEGIN:DAYLIGHT
TZOFFSETFROM:+0100
TZOFFSETTO:+0200
TZNAME:CEST
DTSTART:20250330T010000
END:DAYLIGHT
BEGIN:STANDARD
TZOFFSETFROM:+0200
TZOFFSETTO:+0100
TZNAME:CET
DTSTART:20251026T010000
END:STANDARD
BEGIN:DAYLIGHT
TZOFFSETFROM:+0100
TZOFFSETTO:+0200
TZNAME:CEST
DTSTART:20260329T010000
END:DAYLIGHT
BEGIN:STANDARD
TZOFFSETFROM:+0200
TZOFFSETTO:+0100
TZNAME:CET
DTSTART:20261025T010000
END:STANDARD
BEGIN:DAYLIGHT
TZOFFSETFROM:+0100
TZOFFSETTO:+0200
TZNAME:CEST
DTSTART:20270328T010000
END:DAYLIGHT
BEGIN:STANDARD
TZOFFSETFROM:+0200
TZOFFSETTO:+0100
TZNAME:CET
DTSTART:20271031T010000
END:STANDARD
END:VTIMEZONE
BEGIN:VEVENT
DTSTART;TZID=Europe/Zurich:20260421T170000
DTEND;TZID=Europe/Zurich:20260421T200000
DTSTAMP:20260419T172824
CREATED:20250228T104838Z
LAST-MODIFIED:20260123T101201Z
UID:10002408-1776790800-1776801600@druckwerk.ch
SUMMARY:Offenes Atelier
DESCRIPTION:Jeden Dienstagabend\, 17-20 Uhr \nWenn Sie Fragen haben oder diesen Kurs am nächsten Dienstagabend besuchen möchten\, wenden Sie sich bitte an Annegret Dürig. \n  \n\n\n\n\nFür alle\, die das druckwerk kennenlernen oder mit andern zusammen arbeiten wollen. Schwerpunkt im Bereich Tiefdruck (Photopolymer\, Radierung\, experimentelle Techniken). \nDie Teilnehmenden werden bei der Realisierung ihrer Projekte individuell unterstützt. \n\n\n\n\n  \nLeitung: (abwechselnd) Annegret Dürig\, Dorothee Dieterich \n  \nKosten\nEin Kursabend kostet für Nichtmitglieder CHF 60\, für Mitglieder CHF 50 \nDruck-Pass für zehn Abende: CHF 500\nfür Studierende unter 25 Jahren CHF 300 \nfür Vereinsmitglieder ist das elfte Mal gratis \nDie Jahresmiete Ateliernutzung berechtigt\, den Kurs für einen Unkostenbeitrag von CHF 10 zu besuchen. \n  \nDas Offene Atelier findet nicht in den Schulferien statt. \n  \n\n    \n        \n            \n                \n                \n                \n                \n                \n                \n            \n        \n        \n    \n\n 
URL:https://druckwerk.ch/veranstaltung/offenes-atelier/2026-04-21/
LOCATION:druckwerk\, Burgweg 7\, Basel\, 4058\, Switzerland
CATEGORIES:Offenes Atelier,Wöchentliche Kurse
ATTACH;FMTTYPE=image/jpeg:https://druckwerk.ch/wp-content/uploads/2024/11/offene_werkstatt-e1740093856865.jpg
ORGANIZER;CN="druckwerk":MAILTO:info@druckwerk.ch
END:VEVENT
BEGIN:VEVENT
DTSTART;TZID=Europe/Zurich:20260422T173000
DTEND;TZID=Europe/Zurich:20260422T203000
DTSTAMP:20260419T172824
CREATED:20241220T110740Z
LAST-MODIFIED:20260106T153947Z
UID:10001543-1776879000-1776889800@druckwerk.ch
SUMMARY:Moku Hanga & Lithographie
DESCRIPTION:Jeden Mittwochabend\, 17.30-20.30 Uhr \nWenn Sie Fragen haben oder diesen Kurs am nächsten Mittwochabend besuchen möchten\, wenden Sie sich bitte an Ayako Kyodo. \nIm Kurs erlernen Sie die traditionelle Herstellung eines japanischen Holzdrucks in mehreren Farben. Sie werden in die Verwendung der japanischen Werkzeuge\, die Mixtur der Farben und der spezifischen Druckmethode eingeführt. Sie entwerfen die Schwarzlinien Ihres Sujets\, schneiden Sie in den Holzstock\, anschliessend planen und schneiden Sie eine oder mehrere Farbplatten.\nDer Kurs ermöglicht aber auch allen Interessierten das Arbeiten im Bereich der Lithographie. \nDie Teilnehmenden werden individuell beraten und bei der Realisierung ihrer Projekte begleitet. \n\nLeitung: Ayako Kyodo und als Vertretung Florian Dammeyer \n\nKosten\nEin Kursabend kostet für Nichtmitglieder CHF 60\, für Mitglieder CHF 50 \nDruck-Pass für zehn Abende: CHF 500\nfür Studierende unter 25 Jahren CHF 300 \nfür Vereinsmitglieder ist das elfte Mal gratis \nDie Jahresmiete Ateliernutzung berechtigt\, den Kurs für einen Unkostenbeitrag von CHF 10 zu besuchen. \n 
URL:https://druckwerk.ch/veranstaltung/japanischer-holzschnitt-moku-hanga/2026-04-22/
LOCATION:druckwerk\, Burgweg 7\, Basel\, 4058\, Switzerland
CATEGORIES:Moku Hanga & Lithographie,Wöchentliche Kurse
ATTACH;FMTTYPE=image/jpeg:https://druckwerk.ch/wp-content/uploads/2024/12/f1c67f99278c0eaf2fb2e464ad263c0b_f1104.jpg
ORGANIZER;CN="druckwerk":MAILTO:info@druckwerk.ch
END:VEVENT
BEGIN:VEVENT
DTSTART;TZID=Europe/Zurich:20260423T140000
DTEND;TZID=Europe/Zurich:20260423T170000
DTSTAMP:20260419T172824
CREATED:20260123T094328Z
LAST-MODIFIED:20260123T102954Z
UID:10002426-1776952800-1776963600@druckwerk.ch
SUMMARY:Offene Werkstatt
DESCRIPTION:Jeden Donnerstag\, 14-17 Uhr \nWenn Sie Fragen haben oder diesen Kurs am nächsten Donnerstagnachmittag besuchen möchten\, wenden Sie sich bitte an Marcel Mayer. \nDruckgrafik als künstlerisches Ausdrucksmittel erfahren und eigene künstlerische Projekte unter fachkundiger Assistenz realisieren. \n\n\n\nDabei können alle technischen Möglichkeiten des Ateliers genutzt werden: Lithografie\, Radierung\, Holz- und Linolschnitt und Bleisatz. Es werden keine Vorkenntnisse vorausgesetzt. Individuelle Beratung und Begleitung – ambitionierte und unkonventionelle Projekte sind willkommen. \n\n\n\nLeitung: Marcel Mayer \n  \nKosten\nEin Kursabend kostet für Nichtmitglieder CHF 60\, für Mitglieder CHF 50 \nDruck-Pass für zehn Abende: CHF 500\nfür Studierende unter 25 Jahren CHF 300 \nfür Vereinsmitglieder ist das elfte Mal gratis \nDie Jahresmiete Ateliernutzung berechtigt\, den Kurs für einen Unkostenbeitrag von CHF 10 zu besuchen. \n  \nDie Offene Werkstatt findet nicht in den Schulferien statt. \n  \n\n    \n        \n            \n                \n                \n                \n                \n                \n                \n            \n        \n        \n    \n\n 
URL:https://druckwerk.ch/veranstaltung/offene-werkstatt/2026-04-23/
LOCATION:druckwerk\, Burgweg 7\, Basel\, 4058\, Switzerland
CATEGORIES:Offene Werkstatt,Wöchentliche Kurse
ATTACH;FMTTYPE=image/jpeg:https://druckwerk.ch/wp-content/uploads/2026/01/2025_Marcel-Mayer_Do_kurs_druckwerk_©margarit_lehmann--e1769161716637.jpg
ORGANIZER;CN="druckwerk":MAILTO:info@druckwerk.ch
END:VEVENT
BEGIN:VEVENT
DTSTART;TZID=Europe/Zurich:20260423T173000
DTEND;TZID=Europe/Zurich:20260423T203000
DTSTAMP:20260419T172825
CREATED:20241220T115141Z
LAST-MODIFIED:20260123T103635Z
UID:10002122-1776965400-1776976200@druckwerk.ch
SUMMARY:Bild und Schrift
DESCRIPTION:Jeden Donnerstagabend\, 17:30-20:30 Uhr \nWenn Sie Fragen haben oder diesen Kurs am nächsten Donnerstagabend besuchen möchten\, wenden Sie sich bitte an Lucinda Tanner. \nKombinieren Sie Bild und Text mit zwei Hochdrucktechniken.\nDas offene Atelier ist eine Einführung und Begleitung in den Bereich Hochdruck-\, Holz-\, und Linolschnitt\, und Buchdruck. Es werden keine Vorkenntnisse vorausgesetzt. Die Teilnehmenden werden individuell beraten und bei der Realisierung ihrer Projekte begleitet. \n\nLeitung: Lucinda Tanner (Englisch/Deutsch) \n  \nKosten\nEin Kursabend kostet für Nichtmitglieder CHF 60\, für Mitglieder CHF 50 \nDruck-Pass für zehn Abende: CHF 500\nfür Studierende unter 25 Jahren CHF 300 \nfür Vereinsmitglieder ist das elfte Mal gratis \nDie Jahresmiete Ateliernutzung berechtigt\, den Kurs für einen Unkostenbeitrag von CHF 10 zu besuchen. \n  \nDieser Kurs findet an den folgenden Daten nicht statt:\n19.02.\, 26.02.\, 02.04. und 09.04.2026 \n 
URL:https://druckwerk.ch/veranstaltung/bild-und-schrift/2026-04-23/
LOCATION:druckwerk\, Burgweg 7\, Basel\, 4058\, Switzerland
CATEGORIES:Bild und Schrift,Wöchentliche Kurse
ATTACH;FMTTYPE=image/jpeg:https://druckwerk.ch/wp-content/uploads/2024/12/Bild_und_Schrift_1-e1734695425121.jpg
ORGANIZER;CN="druckwerk":MAILTO:info@druckwerk.ch
END:VEVENT
BEGIN:VEVENT
DTSTART;TZID=Europe/Zurich:20260425T110000
DTEND;TZID=Europe/Zurich:20260426T160000
DTSTAMP:20260419T172825
CREATED:20251209T191948Z
LAST-MODIFIED:20260403T110607Z
UID:10002390-1777114800-1777219200@druckwerk.ch
SUMMARY:Heft – Mappe – Album. Ein Platz für lose Blätter und Bilder
DESCRIPTION:Wie finden Arbeiten\, die irgendwie heimatlos herumliegen\, aber doch aufbewahrt werden wollen\, einen Platz?  Wir lernen verschiedene traditionelle und ungewöhnliche Strukturen kennen\, die derlei Reste aufwerten. Gerne eigene Arbeiten auf Heimatsuche mitbringen. \nKurssprache: Englisch/Deutsch\nKursleitung: Dorothee Dieterich\n \nUm sich für diesen Kurs anzumelden\, schreiben Sie bitte an office@druckwerk.ch. \n  \nKosten:\ninkl. Farben und Verbrauchsmaterialien\, exkl. Papier und Druckplatten\nCHF 240  für einen zweitägigen Kurs\n\nCHF 120  für einen eintägigen Kurs \n\nFür Mitglieder des Vereins druckwerks und Personen mit der Kulturlegi:\nCHF 160 für einen zweitägigen Kurs\nCHF 80 für einen eintägigen Kurs\n\n\nAnmeldebedingungen: Die Anmeldungen werden nach der Reihenfolge des Eingangs berücksichtigt. Kurzfristige Anmeldungen sind möglich\, sofern freie Plätze zur Verfügung stehen.\nBei Abmeldungen\, die erst 5 Tage vor Kursbeginn erfolgen\, ist die Hälfte des Kursgeldes zu entrichten. Bei Nicht-Erscheinen wird das ganze Kursgeld fällig. \nVersicherung: ist Sache der Teilnehmenden. \n 
URL:https://druckwerk.ch/veranstaltung/heft-mappe/
LOCATION:druckwerk\, Burgweg 7\, Basel\, 4058\, Switzerland
CATEGORIES:Druckfrisch
ATTACH;FMTTYPE=image/jpeg:https://druckwerk.ch/wp-content/uploads/2025/12/IMG_13232.jpg
ORGANIZER;CN="druckwerk":MAILTO:info@druckwerk.ch
END:VEVENT
BEGIN:VEVENT
DTSTART;TZID=Europe/Zurich:20260508T183000
DTEND;TZID=Europe/Zurich:20260508T200000
DTSTAMP:20260419T172825
CREATED:20260407T073121Z
LAST-MODIFIED:20260407T073543Z
UID:10002703-1778265000-1778270400@druckwerk.ch
SUMMARY:Einblick - Elsa Naude
DESCRIPTION:Einblick – Künstler:innengespräch\nElsa Naude präsentiert ihr neuestes Werk: den Linolschnitt Fire\, walk away\, entstanden im anspruchsvollen Verfahren der verlorenen Platte.\nAnhand einer Auswahl aktueller Druckgrafiken – von Linolschnitten über Radierungen bis hin zur Lithografie – gibt sie Einblicke in ihre Arbeitsweise und zeigt\, wie sie diese Techniken teils mit Zeichnung und Malerei kombiniert. Ihre Motive findet Elsa Naude im Alltag: Sie hält flüchtige Momente und Bilder fest\, die ihre Vorstellungskraft wecken oder verborgene Emotionen ans Licht bringen. Dabei hinterfragt sie in ihren Arbeiten insbesondere Körperlichkeit sowie geschlechtsspezifische und identitätsstiftende Phänomene. \n  \nUm 18.30 Uhr mit anschliessenden Apéro (Türöffnung 18 Uhr) \n  \nBildunterschrift:\nJ’entrevois – Gemälde von Elsa Naude – Aquarell und Buntstifte\, 21x34cm\n© Elsa Naude \n  \n 
URL:https://druckwerk.ch/veranstaltung/einblick-elsa-naude/
LOCATION:druckwerk\, Burgweg 7\, Basel\, 4058\, Switzerland
CATEGORIES:Öffentliche events
ATTACH;FMTTYPE=image/jpeg:https://druckwerk.ch/wp-content/uploads/2026/04/Einblick.jpg
ORGANIZER;CN="druckwerk":MAILTO:info@druckwerk.ch
END:VEVENT
BEGIN:VEVENT
DTSTART;TZID=Europe/Zurich:20260509T110000
DTEND;TZID=Europe/Zurich:20260509T160000
DTSTAMP:20260419T172825
CREATED:20260304T094452Z
LAST-MODIFIED:20260403T103736Z
UID:10002700-1778324400-1778342400@druckwerk.ch
SUMMARY:druckwerk als "machine imaginaire"
DESCRIPTION:Ein generativer Druckgrafik-Workshop \nInspiriert von der aktuellen Ausstellung Möglichkeiten von Vera Molnár im Kunstmuseum Basel wird druckwerk zur Maschine. Die Workshop-Teilnehmer sind die arbeitenden Komponenten\, die eine Reihe von Schritt-für-Schritt-Anweisungen ausführen\, um einzigartige und unvorhersehbare Ergebnisse zu erzielen.\nEinschränkungen\, kontrollierte Veränderungen und Zufallselemente werden mit traditionellen analogen Drucktechniken ins Spiel gebracht\, um Variationen\, Überraschungen und Entdeckungen zu erforschen. \nKurssprache: Englisch/Deutsch\nKursleitung: Lucinda Tanner\n \nUm sich für diesen Kurs anzumelden\, schreiben Sie bitte an office@druckwerk.ch. \nSamstag\, 9. Mai 2026\, 11 – 16 Uhr\nSonntag\, 7. Juni 2026\, 11 – 16 Uhr \nKosten:\ninkl. Farben und Verbrauchsmaterialien\, exkl. Papier und Druckplatten\n\nCHF 120  für einen eintägigen Kurs\nFür Mitglieder des Vereins druckwerks und Personen mit der Kulturlegi:\nCHF 80für einen eintägigen Kurs \nAnmeldebedingungen: Die Anmeldungen werden nach der Reihenfolge des Eingangs berücksichtigt. Kurzfristige Anmeldungen sind möglich\, sofern freie Plätze zur Verfügung stehen.\nBei Abmeldungen\, die erst 5 Tage vor Kursbeginn erfolgen\, ist die Hälfte des Kursgeldes zu entrichten. Bei Nicht-Erscheinen wird das ganze Kursgeld fällig. \n\nVersicherung: ist Sache der Teilnehmenden. \n 
URL:https://druckwerk.ch/veranstaltung/druckwerk-als-machine-imaginaire/2026-05-09/
LOCATION:druckwerk\, Burgweg 7\, Basel\, 4058\, Switzerland
CATEGORIES:Druckfrisch
ATTACH;FMTTYPE=image/jpeg:https://druckwerk.ch/wp-content/uploads/2026/03/generative-workshop.jpg
ORGANIZER;CN="druckwerk":MAILTO:info@druckwerk.ch
END:VEVENT
BEGIN:VEVENT
DTSTART;TZID=Europe/Zurich:20260530T110000
DTEND;TZID=Europe/Zurich:20260531T160000
DTSTAMP:20260419T172825
CREATED:20251209T190153Z
LAST-MODIFIED:20251209T190525Z
UID:10002386-1780138800-1780243200@druckwerk.ch
SUMMARY:Cyanotypie (Blaudruck)
DESCRIPTION:Es braucht nur einen Gegenstand oder eine Fotografie\, ein bisschen Chemie\, Papier\, Wasser und Sonne. Das fast 200 Jahre alte Edeldruckverfahren ist einfach zu erlernen und eine exzellente Technik\, um Bilder bewusster zu machen. \nDieser Kurs ist für Einsteiger:innen sowie für Personen mit Erfahrung in Cyanotypie gedacht. Wir werden Papier sowie Stoff als Arbeitsmaterial verwenden. \nKurssprachen: D/E \nKursleitung: Margarit Lehmann \nUm sich für diesen Kurs anzumelden\, schreiben Sie bitte an office@druckwerk.ch. \n  \nKosten:\ninkl. Farben und Verbrauchsmaterialien\, exkl. Papier und Druckplatten\nCHF 240  für einen zweitägigen Kurs\n\nCHF 120  für einen eintägigen Kurs \n\nFür Mitglieder des Vereins druckwerks und Personen mit der Kulturlegi:\nCHF 160 für einen zweitägigen Kurs\nCHF 80 für einen eintägigen Kurs\n\n\nAnmeldebedingungen: Die Anmeldungen werden nach der Reihenfolge des Eingangs berücksichtigt. Kurzfristige Anmeldungen sind möglich\, sofern freie Plätze zur Verfügung stehen.\nBei Abmeldungen\, die erst 5 Tage vor Kursbeginn erfolgen\, ist die Hälfte des Kursgeldes zu entrichten. Bei Nicht-Erscheinen wird das ganze Kursgeld fällig. \nVersicherung: ist Sache der Teilnehmenden.
URL:https://druckwerk.ch/veranstaltung/cyanotypie-blaudruck-3/
LOCATION:druckwerk\, Burgweg 7\, Basel\, 4058\, Switzerland
CATEGORIES:Druckfrisch
ATTACH;FMTTYPE=image/jpeg:https://druckwerk.ch/wp-content/uploads/2025/12/Cyanotypie-2026_Margarit-Lehmann.jpg
ORGANIZER;CN="druckwerk":MAILTO:info@druckwerk.ch
END:VEVENT
END:VCALENDAR