BEGIN:VCALENDAR
VERSION:2.0
PRODID:-//druckwerk - ECPv6.15.14//NONSGML v1.0//EN
CALSCALE:GREGORIAN
METHOD:PUBLISH
X-WR-CALNAME:druckwerk
X-ORIGINAL-URL:https://druckwerk.ch
X-WR-CALDESC:Veranstaltungen für druckwerk
REFRESH-INTERVAL;VALUE=DURATION:PT1H
X-Robots-Tag:noindex
X-PUBLISHED-TTL:PT1H
BEGIN:VTIMEZONE
TZID:Europe/Zurich
BEGIN:DAYLIGHT
TZOFFSETFROM:+0100
TZOFFSETTO:+0200
TZNAME:CEST
DTSTART:20240331T010000
END:DAYLIGHT
BEGIN:STANDARD
TZOFFSETFROM:+0200
TZOFFSETTO:+0100
TZNAME:CET
DTSTART:20241027T010000
END:STANDARD
BEGIN:DAYLIGHT
TZOFFSETFROM:+0100
TZOFFSETTO:+0200
TZNAME:CEST
DTSTART:20250330T010000
END:DAYLIGHT
BEGIN:STANDARD
TZOFFSETFROM:+0200
TZOFFSETTO:+0100
TZNAME:CET
DTSTART:20251026T010000
END:STANDARD
BEGIN:DAYLIGHT
TZOFFSETFROM:+0100
TZOFFSETTO:+0200
TZNAME:CEST
DTSTART:20260329T010000
END:DAYLIGHT
BEGIN:STANDARD
TZOFFSETFROM:+0200
TZOFFSETTO:+0100
TZNAME:CET
DTSTART:20261025T010000
END:STANDARD
END:VTIMEZONE
BEGIN:VEVENT
DTSTART;TZID=Europe/Zurich:20251101T110000
DTEND;TZID=Europe/Zurich:20251102T160000
DTSTAMP:20260419T225841
CREATED:20250718T121704Z
LAST-MODIFIED:20250815T103757Z
UID:10002341-1761994800-1762099200@druckwerk.ch
SUMMARY:Wald – eine gemeinsame Druckgrafik intensiv
DESCRIPTION:Wir arbeiten experimentell mit Buchdruck und verschiedenen Reliefdrucktechniken und werden gemeinsam ein Buch zum Thema „Wald“ drucken. \n\n\n\n\nKurssprachen: D/E \nKursleitung: Lucinda Tanner \nUm sich für diesen Kurs anzumelden\, schreiben Sie bitte an office@druckwerk.ch. \n  \nKosten:\ninkl. Farben und Verbrauchsmaterialien\, exkl. Papier und Druckplatten\nCHF 240  für einen zweitägigen Kurs\n\nCHF 120  für einen eintägigen Kurs \n\nFür Mitglieder des Vereins druckwerks und Personen mit der Kulturlegi:\nCHF 160 für einen zweitägigen Kurs\nCHF 80 für einen eintägigen Kurs\n\n\nAnmeldebedingungen: Die Anmeldungen werden nach der Reihenfolge des Eingangs berücksichtigt. Kurzfristige Anmeldungen sind möglich\, sofern freie Plätze zur Verfügung stehen.\nBei Abmeldungen\, die erst 5 Tage vor Kursbeginn erfolgen\, ist die Hälfte des Kursgeldes zu entrichten. Bei Nicht-Erscheinen wird das ganze Kursgeld fällig. \nVersicherung: ist Sache der Teilnehmenden.
URL:https://druckwerk.ch/veranstaltung/wald/
LOCATION:druckwerk\, Burgweg 7\, Basel\, 4058\, Switzerland
CATEGORIES:Druckfrisch
ATTACH;FMTTYPE=image/jpeg:https://druckwerk.ch/wp-content/uploads/2025/07/image12.jpg
ORGANIZER;CN="druckwerk":MAILTO:info@druckwerk.ch
END:VEVENT
BEGIN:VEVENT
DTSTART;TZID=Europe/Zurich:20251105T173000
DTEND;TZID=Europe/Zurich:20251105T203000
DTSTAMP:20260419T225841
CREATED:20241220T110740Z
LAST-MODIFIED:20260106T153947Z
UID:10001519-1762363800-1762374600@druckwerk.ch
SUMMARY:Moku Hanga & Lithographie
DESCRIPTION:Jeden Mittwochabend\, 17.30-20.30 Uhr \nWenn Sie Fragen haben oder diesen Kurs am nächsten Mittwochabend besuchen möchten\, wenden Sie sich bitte an Ayako Kyodo. \nIm Kurs erlernen Sie die traditionelle Herstellung eines japanischen Holzdrucks in mehreren Farben. Sie werden in die Verwendung der japanischen Werkzeuge\, die Mixtur der Farben und der spezifischen Druckmethode eingeführt. Sie entwerfen die Schwarzlinien Ihres Sujets\, schneiden Sie in den Holzstock\, anschliessend planen und schneiden Sie eine oder mehrere Farbplatten.\nDer Kurs ermöglicht aber auch allen Interessierten das Arbeiten im Bereich der Lithographie. \nDie Teilnehmenden werden individuell beraten und bei der Realisierung ihrer Projekte begleitet. \n\nLeitung: Ayako Kyodo und als Vertretung Florian Dammeyer \n\nKosten\nEin Kursabend kostet für Nichtmitglieder CHF 60\, für Mitglieder CHF 50 \nDruck-Pass für zehn Abende: CHF 500\nfür Studierende unter 25 Jahren CHF 300 \nfür Vereinsmitglieder ist das elfte Mal gratis \nDie Jahresmiete Ateliernutzung berechtigt\, den Kurs für einen Unkostenbeitrag von CHF 10 zu besuchen. \n 
URL:https://druckwerk.ch/veranstaltung/japanischer-holzschnitt-moku-hanga/2025-11-05/
LOCATION:druckwerk\, Burgweg 7\, Basel\, 4058\, Switzerland
CATEGORIES:Moku Hanga & Lithographie,Wöchentliche Kurse
ATTACH;FMTTYPE=image/jpeg:https://druckwerk.ch/wp-content/uploads/2024/12/f1c67f99278c0eaf2fb2e464ad263c0b_f1104.jpg
ORGANIZER;CN="druckwerk":MAILTO:info@druckwerk.ch
END:VEVENT
BEGIN:VEVENT
DTSTART;TZID=Europe/Zurich:20251108T130000
DTEND;TZID=Europe/Zurich:20251109T170000
DTSTAMP:20260419T225841
CREATED:20251028T100649Z
LAST-MODIFIED:20251118T104417Z
UID:10002382-1762606800-1762707600@druckwerk.ch
SUMMARY:Wochenende der Graphik 2025
DESCRIPTION:druckwerk\, Historisches Museum Basel\, Basler Papiermühle\, Cartoonmuseum Basel und Kunstmuseum Basel laden ein zum Wochenende der Graphik! \nDieses Jahr widmen wir uns den Themen Wiederholung und Vervielfältigung. Das druckwerk Basel lädt zusammen mit vier weiteren Basler Institutionen zu einem Wochenende voller praktischer Einblicke und kreativer Experimente ein. Die Ateliers von druckwerk und Papiermühle regen zu eigenen Kopien an\, die das Spannungsfeld zwischen Regeln und Kreativität ausloten. \n  \n\n    \n        \n            \n                \n                \n                \n                \n                \n                \n                \n                \n            \n        \n        \n    \n\n  \n2025_Tag der Grafik_Video \n  \n \nWorkshops zum Mitmachen – Samstag & Sonntag\, 13:00–16:45 Uhr\nZwei Institutionen\, ein Spielplan und ganz viel Zufall: Gestalten Sie abstrakte Bilder\, bei denen der Zufall – etwa durch Münzwurf oder Kartenglück – über das Aussehen entscheidet. Besuchen Sie mit einer Fahrt über die Rheinfähre auch die Basler Papiermühle\, um einen gemeinsamen Spielplan zu vervollständigen.\nMuster und Ornamente: Drucken Sie im druckwerk und in der Basler Papiermühle ein Ornament\, das an alte Tapeten angelehnt ist\, und gestalten Sie damit eine Faltkarte. Die Muster aus beiden Institutionen können zu einem einzigartigen Unikat kombiniert werden. \nFokusführung – Samstag & Sonntag\, 15:30–16:30 Uhr\nBestechend gestochen – beeindruckend gedruckt: Anhand konkreter Beispiele verschiedener Künstlerinnen und Künstler werden Drucktechniken wie der Mehrfarbenholzschnitt\, die Radierung\, die Fotogravur\, die Kaltnadel und die Lithografie vorgestellt.\nAlle Veranstaltungen im druckwerk Basel sind ohne vorherige Anmeldung und im Tagesticket inbegriffen.\nEin Ticket ist jeweils für einen Tag in allen fünf teilnehmenden Institutionen gültig. \nDas vollständige Programm finden Sie hier. \nWir freuen uns auf Ihren Besuch! \n  \nCredits: Alice Marie Louise Bailly\, Petites filles au Luxembourg\, 1907\, Kunstmuseum Basel\, Kupferstichkabinett\, Geschenk Dr. Samuel Werenfels\, Basel\, Foto: Jonas Schaffter
URL:https://druckwerk.ch/veranstaltung/wochenende-der-graphik-2025/
LOCATION:druckwerk\, Burgweg 7\, Basel\, 4058\, Switzerland
CATEGORIES:Öffentliche events
ATTACH;FMTTYPE=image/jpeg:https://druckwerk.ch/wp-content/uploads/2025/10/WDG25_4x5.jpg
END:VEVENT
BEGIN:VEVENT
DTSTART;TZID=Europe/Zurich:20251112T173000
DTEND;TZID=Europe/Zurich:20251112T203000
DTSTAMP:20260419T225841
CREATED:20241220T110740Z
LAST-MODIFIED:20260106T153947Z
UID:10001520-1762968600-1762979400@druckwerk.ch
SUMMARY:Moku Hanga & Lithographie
DESCRIPTION:Jeden Mittwochabend\, 17.30-20.30 Uhr \nWenn Sie Fragen haben oder diesen Kurs am nächsten Mittwochabend besuchen möchten\, wenden Sie sich bitte an Ayako Kyodo. \nIm Kurs erlernen Sie die traditionelle Herstellung eines japanischen Holzdrucks in mehreren Farben. Sie werden in die Verwendung der japanischen Werkzeuge\, die Mixtur der Farben und der spezifischen Druckmethode eingeführt. Sie entwerfen die Schwarzlinien Ihres Sujets\, schneiden Sie in den Holzstock\, anschliessend planen und schneiden Sie eine oder mehrere Farbplatten.\nDer Kurs ermöglicht aber auch allen Interessierten das Arbeiten im Bereich der Lithographie. \nDie Teilnehmenden werden individuell beraten und bei der Realisierung ihrer Projekte begleitet. \n\nLeitung: Ayako Kyodo und als Vertretung Florian Dammeyer \n\nKosten\nEin Kursabend kostet für Nichtmitglieder CHF 60\, für Mitglieder CHF 50 \nDruck-Pass für zehn Abende: CHF 500\nfür Studierende unter 25 Jahren CHF 300 \nfür Vereinsmitglieder ist das elfte Mal gratis \nDie Jahresmiete Ateliernutzung berechtigt\, den Kurs für einen Unkostenbeitrag von CHF 10 zu besuchen. \n 
URL:https://druckwerk.ch/veranstaltung/japanischer-holzschnitt-moku-hanga/2025-11-12/
LOCATION:druckwerk\, Burgweg 7\, Basel\, 4058\, Switzerland
CATEGORIES:Moku Hanga & Lithographie,Wöchentliche Kurse
ATTACH;FMTTYPE=image/jpeg:https://druckwerk.ch/wp-content/uploads/2024/12/f1c67f99278c0eaf2fb2e464ad263c0b_f1104.jpg
ORGANIZER;CN="druckwerk":MAILTO:info@druckwerk.ch
END:VEVENT
BEGIN:VEVENT
DTSTART;TZID=Europe/Zurich:20251115T110000
DTEND;TZID=Europe/Zurich:20251116T160000
DTSTAMP:20260419T225841
CREATED:20250718T122333Z
LAST-MODIFIED:20250815T103646Z
UID:10002342-1763204400-1763308800@druckwerk.ch
SUMMARY:Winterdekorationen
DESCRIPTION:Wir kombinieren Linoldruck und Bindetechniken wie Falten\, Schneiden und Kleben. So entstehen Sterne\, Girlanden\, Karten\, Geschenkpapier\, Baumschmuck … \n\n\n\n\n\n\n\n\nKurssprachen: D/E/F \nKursleitung: Elsa Naude & Dorothee Dieterich \nUm sich für diesen Kurs anzumelden\, schreiben Sie bitte an office@druckwerk.ch. \n  \nKosten:\ninkl. Farben und Verbrauchsmaterialien\, exkl. Papier und Druckplatten\nCHF 240  für einen zweitägigen Kurs\n\nCHF 120  für einen eintägigen Kurs \n\nFür Mitglieder des Vereins druckwerks und Personen mit der Kulturlegi:\nCHF 160 für einen zweitägigen Kurs\nCHF 80 für einen eintägigen Kurs\n\n\nAnmeldebedingungen: Die Anmeldungen werden nach der Reihenfolge des Eingangs berücksichtigt. Kurzfristige Anmeldungen sind möglich\, sofern freie Plätze zur Verfügung stehen.\nBei Abmeldungen\, die erst 5 Tage vor Kursbeginn erfolgen\, ist die Hälfte des Kursgeldes zu entrichten. Bei Nicht-Erscheinen wird das ganze Kursgeld fällig. \nVersicherung: ist Sache der Teilnehmenden.
URL:https://druckwerk.ch/veranstaltung/winterdekorationen/
LOCATION:druckwerk\, Burgweg 7\, Basel\, 4058\, Switzerland
CATEGORIES:Druckfrisch
ATTACH;FMTTYPE=image/jpeg:https://druckwerk.ch/wp-content/uploads/2025/07/Photo-montage-copie2.jpg
ORGANIZER;CN="druckwerk":MAILTO:info@druckwerk.ch
END:VEVENT
BEGIN:VEVENT
DTSTART;TZID=Europe/Zurich:20251119T173000
DTEND;TZID=Europe/Zurich:20251119T203000
DTSTAMP:20260419T225841
CREATED:20241220T110740Z
LAST-MODIFIED:20260106T153947Z
UID:10001521-1763573400-1763584200@druckwerk.ch
SUMMARY:Moku Hanga & Lithographie
DESCRIPTION:Jeden Mittwochabend\, 17.30-20.30 Uhr \nWenn Sie Fragen haben oder diesen Kurs am nächsten Mittwochabend besuchen möchten\, wenden Sie sich bitte an Ayako Kyodo. \nIm Kurs erlernen Sie die traditionelle Herstellung eines japanischen Holzdrucks in mehreren Farben. Sie werden in die Verwendung der japanischen Werkzeuge\, die Mixtur der Farben und der spezifischen Druckmethode eingeführt. Sie entwerfen die Schwarzlinien Ihres Sujets\, schneiden Sie in den Holzstock\, anschliessend planen und schneiden Sie eine oder mehrere Farbplatten.\nDer Kurs ermöglicht aber auch allen Interessierten das Arbeiten im Bereich der Lithographie. \nDie Teilnehmenden werden individuell beraten und bei der Realisierung ihrer Projekte begleitet. \n\nLeitung: Ayako Kyodo und als Vertretung Florian Dammeyer \n\nKosten\nEin Kursabend kostet für Nichtmitglieder CHF 60\, für Mitglieder CHF 50 \nDruck-Pass für zehn Abende: CHF 500\nfür Studierende unter 25 Jahren CHF 300 \nfür Vereinsmitglieder ist das elfte Mal gratis \nDie Jahresmiete Ateliernutzung berechtigt\, den Kurs für einen Unkostenbeitrag von CHF 10 zu besuchen. \n 
URL:https://druckwerk.ch/veranstaltung/japanischer-holzschnitt-moku-hanga/2025-11-19/
LOCATION:druckwerk\, Burgweg 7\, Basel\, 4058\, Switzerland
CATEGORIES:Moku Hanga & Lithographie,Wöchentliche Kurse
ATTACH;FMTTYPE=image/jpeg:https://druckwerk.ch/wp-content/uploads/2024/12/f1c67f99278c0eaf2fb2e464ad263c0b_f1104.jpg
ORGANIZER;CN="druckwerk":MAILTO:info@druckwerk.ch
END:VEVENT
BEGIN:VEVENT
DTSTART;TZID=Europe/Zurich:20251122T110000
DTEND;TZID=Europe/Zurich:20251123T160000
DTSTAMP:20260419T225842
CREATED:20250718T163616Z
LAST-MODIFIED:20250815T103617Z
UID:10002343-1763809200-1763913600@druckwerk.ch
SUMMARY:Mit Wort und Bild gestalten
DESCRIPTION:Wir arbeiten an der Schnittstelle zwischen Druck und Text. Bilder und Worte verweben sich miteinander. Dabei erforschen und schaffen wir neue Ausdrucksformen. \n\n\n\n\n\n\n\n\n\n\n\n\nKurssprachen: D \nKursleitung: Katharina Rüegg und Maria Marggraf \nUm sich für diesen Kurs anzumelden\, schreiben Sie bitte an office@druckwerk.ch. \n  \nKosten:\ninkl. Farben und Verbrauchsmaterialien\, exkl. Papier und Druckplatten\nCHF 240  für einen zweitägigen Kurs\n\nCHF 120  für einen eintägigen Kurs \n\nFür Mitglieder des Vereins druckwerks und Personen mit der Kulturlegi:\nCHF 160 für einen zweitägigen Kurs\nCHF 80 für einen eintägigen Kurs\n\n\nAnmeldebedingungen: Die Anmeldungen werden nach der Reihenfolge des Eingangs berücksichtigt. Kurzfristige Anmeldungen sind möglich\, sofern freie Plätze zur Verfügung stehen.\nBei Abmeldungen\, die erst 5 Tage vor Kursbeginn erfolgen\, ist die Hälfte des Kursgeldes zu entrichten. Bei Nicht-Erscheinen wird das ganze Kursgeld fällig. \nVersicherung: ist Sache der Teilnehmenden.
URL:https://druckwerk.ch/veranstaltung/mit-wort-und-bild-gestalten/
LOCATION:druckwerk\, Burgweg 7\, Basel\, 4058\, Switzerland
CATEGORIES:Druckfrisch
ATTACH;FMTTYPE=image/jpeg:https://druckwerk.ch/wp-content/uploads/2025/07/Wort-und-bild.jpg
ORGANIZER;CN="druckwerk":MAILTO:info@druckwerk.ch
END:VEVENT
BEGIN:VEVENT
DTSTART;TZID=Europe/Zurich:20251126T173000
DTEND;TZID=Europe/Zurich:20251126T203000
DTSTAMP:20260419T225842
CREATED:20241220T110740Z
LAST-MODIFIED:20260106T153947Z
UID:10001522-1764178200-1764189000@druckwerk.ch
SUMMARY:Moku Hanga & Lithographie
DESCRIPTION:Jeden Mittwochabend\, 17.30-20.30 Uhr \nWenn Sie Fragen haben oder diesen Kurs am nächsten Mittwochabend besuchen möchten\, wenden Sie sich bitte an Ayako Kyodo. \nIm Kurs erlernen Sie die traditionelle Herstellung eines japanischen Holzdrucks in mehreren Farben. Sie werden in die Verwendung der japanischen Werkzeuge\, die Mixtur der Farben und der spezifischen Druckmethode eingeführt. Sie entwerfen die Schwarzlinien Ihres Sujets\, schneiden Sie in den Holzstock\, anschliessend planen und schneiden Sie eine oder mehrere Farbplatten.\nDer Kurs ermöglicht aber auch allen Interessierten das Arbeiten im Bereich der Lithographie. \nDie Teilnehmenden werden individuell beraten und bei der Realisierung ihrer Projekte begleitet. \n\nLeitung: Ayako Kyodo und als Vertretung Florian Dammeyer \n\nKosten\nEin Kursabend kostet für Nichtmitglieder CHF 60\, für Mitglieder CHF 50 \nDruck-Pass für zehn Abende: CHF 500\nfür Studierende unter 25 Jahren CHF 300 \nfür Vereinsmitglieder ist das elfte Mal gratis \nDie Jahresmiete Ateliernutzung berechtigt\, den Kurs für einen Unkostenbeitrag von CHF 10 zu besuchen. \n 
URL:https://druckwerk.ch/veranstaltung/japanischer-holzschnitt-moku-hanga/2025-11-26/
LOCATION:druckwerk\, Burgweg 7\, Basel\, 4058\, Switzerland
CATEGORIES:Moku Hanga & Lithographie,Wöchentliche Kurse
ATTACH;FMTTYPE=image/jpeg:https://druckwerk.ch/wp-content/uploads/2024/12/f1c67f99278c0eaf2fb2e464ad263c0b_f1104.jpg
ORGANIZER;CN="druckwerk":MAILTO:info@druckwerk.ch
END:VEVENT
BEGIN:VEVENT
DTSTART;TZID=Europe/Zurich:20251128T150000
DTEND;TZID=Europe/Zurich:20251128T180000
DTSTAMP:20260419T225842
CREATED:20251209T193723Z
LAST-MODIFIED:20251209T195422Z
UID:10002391-1764342000-1764352800@druckwerk.ch
SUMMARY:Bau- und Verkehrsdepartement des Kantons Basel-Stadt
DESCRIPTION:Das Bau- und Verkehrsdepartement des Kantons Basel-Stadt feierte die Pensionierung seiner Kollegin mit einem lebhaften Teamevent. Die Teilnehmer probierten verschiedene Drucktechniken aus und arbeiteten mit unterschiedlichen Druckpressen. Die von jedem Teilnehmer gedruckten Seiten bildeten ein kleines Notizbuch\, das an die Zeit von Frau Schuster in der Abteilung erinnert. \n\n\n\n\nLeitung: Lucinda Tanner\nMitarbeiter:innen: Katharina Rüegg\, Dorothee Dieterich\, Marcel Mayer \n\n\n\n\n\n\n 
URL:https://druckwerk.ch/veranstaltung/bau-und-verkehrsdepartement/
LOCATION:druckwerk\, Burgweg 7\, Basel\, 4058\, Switzerland
CATEGORIES:Private Workshops,Teamevents
ATTACH;FMTTYPE=image/jpeg:https://druckwerk.ch/wp-content/uploads/2025/12/2025_Teamevent_©MargaritLehman_92.jpg
ORGANIZER;CN="druckwerk":MAILTO:info@druckwerk.ch
END:VEVENT
END:VCALENDAR