BEGIN:VCALENDAR
VERSION:2.0
PRODID:-//druckwerk - ECPv6.15.14//NONSGML v1.0//EN
CALSCALE:GREGORIAN
METHOD:PUBLISH
X-WR-CALNAME:druckwerk
X-ORIGINAL-URL:https://druckwerk.ch
X-WR-CALDESC:Veranstaltungen für druckwerk
REFRESH-INTERVAL;VALUE=DURATION:PT1H
X-Robots-Tag:noindex
X-PUBLISHED-TTL:PT1H
BEGIN:VTIMEZONE
TZID:Europe/Zurich
BEGIN:DAYLIGHT
TZOFFSETFROM:+0100
TZOFFSETTO:+0200
TZNAME:CEST
DTSTART:20250330T010000
END:DAYLIGHT
BEGIN:STANDARD
TZOFFSETFROM:+0200
TZOFFSETTO:+0100
TZNAME:CET
DTSTART:20251026T010000
END:STANDARD
BEGIN:DAYLIGHT
TZOFFSETFROM:+0100
TZOFFSETTO:+0200
TZNAME:CEST
DTSTART:20260329T010000
END:DAYLIGHT
BEGIN:STANDARD
TZOFFSETFROM:+0200
TZOFFSETTO:+0100
TZNAME:CET
DTSTART:20261025T010000
END:STANDARD
BEGIN:DAYLIGHT
TZOFFSETFROM:+0100
TZOFFSETTO:+0200
TZNAME:CEST
DTSTART:20270328T010000
END:DAYLIGHT
BEGIN:STANDARD
TZOFFSETFROM:+0200
TZOFFSETTO:+0100
TZNAME:CET
DTSTART:20271031T010000
END:STANDARD
END:VTIMEZONE
BEGIN:VEVENT
DTSTART;TZID=Europe/Zurich:20260106T170000
DTEND;TZID=Europe/Zurich:20260106T200000
DTSTAMP:20260423T190951
CREATED:20250228T104838Z
LAST-MODIFIED:20260123T101201Z
UID:10002014-1767718800-1767729600@druckwerk.ch
SUMMARY:Offenes Atelier
DESCRIPTION:Jeden Dienstagabend\, 17-20 Uhr \nWenn Sie Fragen haben oder diesen Kurs am nächsten Dienstagabend besuchen möchten\, wenden Sie sich bitte an Annegret Dürig. \n  \n\n\n\n\nFür alle\, die das druckwerk kennenlernen oder mit andern zusammen arbeiten wollen. Schwerpunkt im Bereich Tiefdruck (Photopolymer\, Radierung\, experimentelle Techniken). \nDie Teilnehmenden werden bei der Realisierung ihrer Projekte individuell unterstützt. \n\n\n\n\n  \nLeitung: (abwechselnd) Annegret Dürig\, Dorothee Dieterich \n  \nKosten\nEin Kursabend kostet für Nichtmitglieder CHF 60\, für Mitglieder CHF 50 \nDruck-Pass für zehn Abende: CHF 500\nfür Studierende unter 25 Jahren CHF 300 \nfür Vereinsmitglieder ist das elfte Mal gratis \nDie Jahresmiete Ateliernutzung berechtigt\, den Kurs für einen Unkostenbeitrag von CHF 10 zu besuchen. \n  \nDas Offene Atelier findet nicht in den Schulferien statt. \n  \n\n    \n        \n            \n                \n                \n                \n                \n                \n                \n            \n        \n        \n    \n\n 
URL:https://druckwerk.ch/veranstaltung/offenes-atelier/2026-01-06/
LOCATION:druckwerk\, Burgweg 7\, Basel\, 4058\, Switzerland
CATEGORIES:Offenes Atelier,Wöchentliche Kurse
ATTACH;FMTTYPE=image/jpeg:https://druckwerk.ch/wp-content/uploads/2024/11/offene_werkstatt-e1740093856865.jpg
ORGANIZER;CN="druckwerk":MAILTO:info@druckwerk.ch
END:VEVENT
BEGIN:VEVENT
DTSTART;TZID=Europe/Zurich:20260107T173000
DTEND;TZID=Europe/Zurich:20260107T203000
DTSTAMP:20260423T190951
CREATED:20241220T110740Z
LAST-MODIFIED:20260106T153947Z
UID:10001528-1767807000-1767817800@druckwerk.ch
SUMMARY:Moku Hanga & Lithographie
DESCRIPTION:Jeden Mittwochabend\, 17.30-20.30 Uhr \nWenn Sie Fragen haben oder diesen Kurs am nächsten Mittwochabend besuchen möchten\, wenden Sie sich bitte an Ayako Kyodo. \nIm Kurs erlernen Sie die traditionelle Herstellung eines japanischen Holzdrucks in mehreren Farben. Sie werden in die Verwendung der japanischen Werkzeuge\, die Mixtur der Farben und der spezifischen Druckmethode eingeführt. Sie entwerfen die Schwarzlinien Ihres Sujets\, schneiden Sie in den Holzstock\, anschliessend planen und schneiden Sie eine oder mehrere Farbplatten.\nDer Kurs ermöglicht aber auch allen Interessierten das Arbeiten im Bereich der Lithographie. \nDie Teilnehmenden werden individuell beraten und bei der Realisierung ihrer Projekte begleitet. \n\nLeitung: Ayako Kyodo und als Vertretung Florian Dammeyer \n\nKosten\nEin Kursabend kostet für Nichtmitglieder CHF 60\, für Mitglieder CHF 50 \nDruck-Pass für zehn Abende: CHF 500\nfür Studierende unter 25 Jahren CHF 300 \nfür Vereinsmitglieder ist das elfte Mal gratis \nDie Jahresmiete Ateliernutzung berechtigt\, den Kurs für einen Unkostenbeitrag von CHF 10 zu besuchen. \n 
URL:https://druckwerk.ch/veranstaltung/japanischer-holzschnitt-moku-hanga/2026-01-07/
LOCATION:druckwerk\, Burgweg 7\, Basel\, 4058\, Switzerland
CATEGORIES:Moku Hanga & Lithographie,Wöchentliche Kurse
ATTACH;FMTTYPE=image/jpeg:https://druckwerk.ch/wp-content/uploads/2024/12/f1c67f99278c0eaf2fb2e464ad263c0b_f1104.jpg
ORGANIZER;CN="druckwerk":MAILTO:info@druckwerk.ch
END:VEVENT
BEGIN:VEVENT
DTSTART;TZID=Europe/Zurich:20260108T140000
DTEND;TZID=Europe/Zurich:20260108T170000
DTSTAMP:20260423T190951
CREATED:20251209T183508Z
LAST-MODIFIED:20251210T102531Z
UID:10002385-1767880800-1767891600@druckwerk.ch
SUMMARY:Offenes Atelier am Nachmittag
DESCRIPTION:Jeden Donnerstag\, 14-17 Uhr \nWenn Sie Fragen haben oder diesen Kurs am nächsten Donnerstagnachmittag besuchen möchten\, wenden Sie sich bitte an Marcel Mayer. \n  \n\n\n\n\nEinführung / Assistenz für alle Techniken im druckwerk. Individuelle Begleitung bei Arbeiten in den Bereichen Buchdruck\, Hochdruck (Holz-und Linolschnitt)\, Tiefdruck und Lithographie.\n\n\n\n\n  \nLeitung: Marcel Mayer \n  \nKosten\nEin Kursabend kostet für Nichtmitglieder CHF 60\, für Mitglieder CHF 50 \nDruck-Pass für zehn Abende: CHF 500\nfür Studierende unter 25 Jahren CHF 300 \nfür Vereinsmitglieder ist das elfte Mal gratis \nDie Jahresmiete Ateliernutzung berechtigt\, den Kurs für einen Unkostenbeitrag von CHF 10 zu besuchen. \n  \nDas Offene Atelier findet nicht in den Schulferien statt. \n  \n\n    \n        \n            \n                \n                \n                \n                \n                \n                \n            \n        \n        \n    \n\n 
URL:https://druckwerk.ch/veranstaltung/offenes-atelier-am-nachmittag/2026-01-08/
LOCATION:druckwerk\, Burgweg 7\, Basel\, 4058\, Switzerland
CATEGORIES:Offenes Atelier Nachmittag,Wöchentliche Kurse
ATTACH;FMTTYPE=image/jpeg:https://druckwerk.ch/wp-content/uploads/2025/12/f1fe18c25736af91fc8a162c9beb7d6f_f531.jpg
ORGANIZER;CN="druckwerk":MAILTO:info@druckwerk.ch
END:VEVENT
BEGIN:VEVENT
DTSTART;TZID=Europe/Zurich:20260108T173000
DTEND;TZID=Europe/Zurich:20260108T203000
DTSTAMP:20260423T190951
CREATED:20241220T115141Z
LAST-MODIFIED:20260123T103635Z
UID:10002107-1767893400-1767904200@druckwerk.ch
SUMMARY:Bild und Schrift
DESCRIPTION:Jeden Donnerstagabend\, 17:30-20:30 Uhr \nWenn Sie Fragen haben oder diesen Kurs am nächsten Donnerstagabend besuchen möchten\, wenden Sie sich bitte an Lucinda Tanner. \nKombinieren Sie Bild und Text mit zwei Hochdrucktechniken.\nDas offene Atelier ist eine Einführung und Begleitung in den Bereich Hochdruck-\, Holz-\, und Linolschnitt\, und Buchdruck. Es werden keine Vorkenntnisse vorausgesetzt. Die Teilnehmenden werden individuell beraten und bei der Realisierung ihrer Projekte begleitet. \n\nLeitung: Lucinda Tanner (Englisch/Deutsch) \n  \nKosten\nEin Kursabend kostet für Nichtmitglieder CHF 60\, für Mitglieder CHF 50 \nDruck-Pass für zehn Abende: CHF 500\nfür Studierende unter 25 Jahren CHF 300 \nfür Vereinsmitglieder ist das elfte Mal gratis \nDie Jahresmiete Ateliernutzung berechtigt\, den Kurs für einen Unkostenbeitrag von CHF 10 zu besuchen. \n  \nDieser Kurs findet an den folgenden Daten nicht statt:\n19.02.\, 26.02.\, 02.04. und 09.04.2026 \n 
URL:https://druckwerk.ch/veranstaltung/bild-und-schrift/2026-01-08/
LOCATION:druckwerk\, Burgweg 7\, Basel\, 4058\, Switzerland
CATEGORIES:Bild und Schrift,Wöchentliche Kurse
ATTACH;FMTTYPE=image/jpeg:https://druckwerk.ch/wp-content/uploads/2024/12/Bild_und_Schrift_1-e1734695425121.jpg
ORGANIZER;CN="druckwerk":MAILTO:info@druckwerk.ch
END:VEVENT
BEGIN:VEVENT
DTSTART;TZID=Europe/Zurich:20260113T170000
DTEND;TZID=Europe/Zurich:20260113T200000
DTSTAMP:20260423T190951
CREATED:20250228T104838Z
LAST-MODIFIED:20260123T101201Z
UID:10002394-1768323600-1768334400@druckwerk.ch
SUMMARY:Offenes Atelier
DESCRIPTION:Jeden Dienstagabend\, 17-20 Uhr \nWenn Sie Fragen haben oder diesen Kurs am nächsten Dienstagabend besuchen möchten\, wenden Sie sich bitte an Annegret Dürig. \n  \n\n\n\n\nFür alle\, die das druckwerk kennenlernen oder mit andern zusammen arbeiten wollen. Schwerpunkt im Bereich Tiefdruck (Photopolymer\, Radierung\, experimentelle Techniken). \nDie Teilnehmenden werden bei der Realisierung ihrer Projekte individuell unterstützt. \n\n\n\n\n  \nLeitung: (abwechselnd) Annegret Dürig\, Dorothee Dieterich \n  \nKosten\nEin Kursabend kostet für Nichtmitglieder CHF 60\, für Mitglieder CHF 50 \nDruck-Pass für zehn Abende: CHF 500\nfür Studierende unter 25 Jahren CHF 300 \nfür Vereinsmitglieder ist das elfte Mal gratis \nDie Jahresmiete Ateliernutzung berechtigt\, den Kurs für einen Unkostenbeitrag von CHF 10 zu besuchen. \n  \nDas Offene Atelier findet nicht in den Schulferien statt. \n  \n\n    \n        \n            \n                \n                \n                \n                \n                \n                \n            \n        \n        \n    \n\n 
URL:https://druckwerk.ch/veranstaltung/offenes-atelier/2026-01-13/
LOCATION:druckwerk\, Burgweg 7\, Basel\, 4058\, Switzerland
CATEGORIES:Offenes Atelier,Wöchentliche Kurse
ATTACH;FMTTYPE=image/jpeg:https://druckwerk.ch/wp-content/uploads/2024/11/offene_werkstatt-e1740093856865.jpg
ORGANIZER;CN="druckwerk":MAILTO:info@druckwerk.ch
END:VEVENT
BEGIN:VEVENT
DTSTART;TZID=Europe/Zurich:20260114T173000
DTEND;TZID=Europe/Zurich:20260114T203000
DTSTAMP:20260423T190952
CREATED:20241220T110740Z
LAST-MODIFIED:20260106T153947Z
UID:10001529-1768411800-1768422600@druckwerk.ch
SUMMARY:Moku Hanga & Lithographie
DESCRIPTION:Jeden Mittwochabend\, 17.30-20.30 Uhr \nWenn Sie Fragen haben oder diesen Kurs am nächsten Mittwochabend besuchen möchten\, wenden Sie sich bitte an Ayako Kyodo. \nIm Kurs erlernen Sie die traditionelle Herstellung eines japanischen Holzdrucks in mehreren Farben. Sie werden in die Verwendung der japanischen Werkzeuge\, die Mixtur der Farben und der spezifischen Druckmethode eingeführt. Sie entwerfen die Schwarzlinien Ihres Sujets\, schneiden Sie in den Holzstock\, anschliessend planen und schneiden Sie eine oder mehrere Farbplatten.\nDer Kurs ermöglicht aber auch allen Interessierten das Arbeiten im Bereich der Lithographie. \nDie Teilnehmenden werden individuell beraten und bei der Realisierung ihrer Projekte begleitet. \n\nLeitung: Ayako Kyodo und als Vertretung Florian Dammeyer \n\nKosten\nEin Kursabend kostet für Nichtmitglieder CHF 60\, für Mitglieder CHF 50 \nDruck-Pass für zehn Abende: CHF 500\nfür Studierende unter 25 Jahren CHF 300 \nfür Vereinsmitglieder ist das elfte Mal gratis \nDie Jahresmiete Ateliernutzung berechtigt\, den Kurs für einen Unkostenbeitrag von CHF 10 zu besuchen. \n 
URL:https://druckwerk.ch/veranstaltung/japanischer-holzschnitt-moku-hanga/2026-01-14/
LOCATION:druckwerk\, Burgweg 7\, Basel\, 4058\, Switzerland
CATEGORIES:Moku Hanga & Lithographie,Wöchentliche Kurse
ATTACH;FMTTYPE=image/jpeg:https://druckwerk.ch/wp-content/uploads/2024/12/f1c67f99278c0eaf2fb2e464ad263c0b_f1104.jpg
ORGANIZER;CN="druckwerk":MAILTO:info@druckwerk.ch
END:VEVENT
BEGIN:VEVENT
DTSTART;TZID=Europe/Zurich:20260115T173000
DTEND;TZID=Europe/Zurich:20260115T203000
DTSTAMP:20260423T190952
CREATED:20241220T115141Z
LAST-MODIFIED:20260123T103635Z
UID:10002108-1768498200-1768509000@druckwerk.ch
SUMMARY:Bild und Schrift
DESCRIPTION:Jeden Donnerstagabend\, 17:30-20:30 Uhr \nWenn Sie Fragen haben oder diesen Kurs am nächsten Donnerstagabend besuchen möchten\, wenden Sie sich bitte an Lucinda Tanner. \nKombinieren Sie Bild und Text mit zwei Hochdrucktechniken.\nDas offene Atelier ist eine Einführung und Begleitung in den Bereich Hochdruck-\, Holz-\, und Linolschnitt\, und Buchdruck. Es werden keine Vorkenntnisse vorausgesetzt. Die Teilnehmenden werden individuell beraten und bei der Realisierung ihrer Projekte begleitet. \n\nLeitung: Lucinda Tanner (Englisch/Deutsch) \n  \nKosten\nEin Kursabend kostet für Nichtmitglieder CHF 60\, für Mitglieder CHF 50 \nDruck-Pass für zehn Abende: CHF 500\nfür Studierende unter 25 Jahren CHF 300 \nfür Vereinsmitglieder ist das elfte Mal gratis \nDie Jahresmiete Ateliernutzung berechtigt\, den Kurs für einen Unkostenbeitrag von CHF 10 zu besuchen. \n  \nDieser Kurs findet an den folgenden Daten nicht statt:\n19.02.\, 26.02.\, 02.04. und 09.04.2026 \n 
URL:https://druckwerk.ch/veranstaltung/bild-und-schrift/2026-01-15/
LOCATION:druckwerk\, Burgweg 7\, Basel\, 4058\, Switzerland
CATEGORIES:Bild und Schrift,Wöchentliche Kurse
ATTACH;FMTTYPE=image/jpeg:https://druckwerk.ch/wp-content/uploads/2024/12/Bild_und_Schrift_1-e1734695425121.jpg
ORGANIZER;CN="druckwerk":MAILTO:info@druckwerk.ch
END:VEVENT
BEGIN:VEVENT
DTSTART;TZID=Europe/Zurich:20260120T170000
DTEND;TZID=Europe/Zurich:20260120T200000
DTSTAMP:20260423T190952
CREATED:20250228T104838Z
LAST-MODIFIED:20260123T101201Z
UID:10002395-1768928400-1768939200@druckwerk.ch
SUMMARY:Offenes Atelier
DESCRIPTION:Jeden Dienstagabend\, 17-20 Uhr \nWenn Sie Fragen haben oder diesen Kurs am nächsten Dienstagabend besuchen möchten\, wenden Sie sich bitte an Annegret Dürig. \n  \n\n\n\n\nFür alle\, die das druckwerk kennenlernen oder mit andern zusammen arbeiten wollen. Schwerpunkt im Bereich Tiefdruck (Photopolymer\, Radierung\, experimentelle Techniken). \nDie Teilnehmenden werden bei der Realisierung ihrer Projekte individuell unterstützt. \n\n\n\n\n  \nLeitung: (abwechselnd) Annegret Dürig\, Dorothee Dieterich \n  \nKosten\nEin Kursabend kostet für Nichtmitglieder CHF 60\, für Mitglieder CHF 50 \nDruck-Pass für zehn Abende: CHF 500\nfür Studierende unter 25 Jahren CHF 300 \nfür Vereinsmitglieder ist das elfte Mal gratis \nDie Jahresmiete Ateliernutzung berechtigt\, den Kurs für einen Unkostenbeitrag von CHF 10 zu besuchen. \n  \nDas Offene Atelier findet nicht in den Schulferien statt. \n  \n\n    \n        \n            \n                \n                \n                \n                \n                \n                \n            \n        \n        \n    \n\n 
URL:https://druckwerk.ch/veranstaltung/offenes-atelier/2026-01-20/
LOCATION:druckwerk\, Burgweg 7\, Basel\, 4058\, Switzerland
CATEGORIES:Offenes Atelier,Wöchentliche Kurse
ATTACH;FMTTYPE=image/jpeg:https://druckwerk.ch/wp-content/uploads/2024/11/offene_werkstatt-e1740093856865.jpg
ORGANIZER;CN="druckwerk":MAILTO:info@druckwerk.ch
END:VEVENT
BEGIN:VEVENT
DTSTART;TZID=Europe/Zurich:20260121T173000
DTEND;TZID=Europe/Zurich:20260121T203000
DTSTAMP:20260423T190952
CREATED:20241220T110740Z
LAST-MODIFIED:20260106T153947Z
UID:10001530-1769016600-1769027400@druckwerk.ch
SUMMARY:Moku Hanga & Lithographie
DESCRIPTION:Jeden Mittwochabend\, 17.30-20.30 Uhr \nWenn Sie Fragen haben oder diesen Kurs am nächsten Mittwochabend besuchen möchten\, wenden Sie sich bitte an Ayako Kyodo. \nIm Kurs erlernen Sie die traditionelle Herstellung eines japanischen Holzdrucks in mehreren Farben. Sie werden in die Verwendung der japanischen Werkzeuge\, die Mixtur der Farben und der spezifischen Druckmethode eingeführt. Sie entwerfen die Schwarzlinien Ihres Sujets\, schneiden Sie in den Holzstock\, anschliessend planen und schneiden Sie eine oder mehrere Farbplatten.\nDer Kurs ermöglicht aber auch allen Interessierten das Arbeiten im Bereich der Lithographie. \nDie Teilnehmenden werden individuell beraten und bei der Realisierung ihrer Projekte begleitet. \n\nLeitung: Ayako Kyodo und als Vertretung Florian Dammeyer \n\nKosten\nEin Kursabend kostet für Nichtmitglieder CHF 60\, für Mitglieder CHF 50 \nDruck-Pass für zehn Abende: CHF 500\nfür Studierende unter 25 Jahren CHF 300 \nfür Vereinsmitglieder ist das elfte Mal gratis \nDie Jahresmiete Ateliernutzung berechtigt\, den Kurs für einen Unkostenbeitrag von CHF 10 zu besuchen. \n 
URL:https://druckwerk.ch/veranstaltung/japanischer-holzschnitt-moku-hanga/2026-01-21/
LOCATION:druckwerk\, Burgweg 7\, Basel\, 4058\, Switzerland
CATEGORIES:Moku Hanga & Lithographie,Wöchentliche Kurse
ATTACH;FMTTYPE=image/jpeg:https://druckwerk.ch/wp-content/uploads/2024/12/f1c67f99278c0eaf2fb2e464ad263c0b_f1104.jpg
ORGANIZER;CN="druckwerk":MAILTO:info@druckwerk.ch
END:VEVENT
BEGIN:VEVENT
DTSTART;TZID=Europe/Zurich:20260122T173000
DTEND;TZID=Europe/Zurich:20260122T203000
DTSTAMP:20260423T190952
CREATED:20241220T115141Z
LAST-MODIFIED:20260123T103635Z
UID:10002109-1769103000-1769113800@druckwerk.ch
SUMMARY:Bild und Schrift
DESCRIPTION:Jeden Donnerstagabend\, 17:30-20:30 Uhr \nWenn Sie Fragen haben oder diesen Kurs am nächsten Donnerstagabend besuchen möchten\, wenden Sie sich bitte an Lucinda Tanner. \nKombinieren Sie Bild und Text mit zwei Hochdrucktechniken.\nDas offene Atelier ist eine Einführung und Begleitung in den Bereich Hochdruck-\, Holz-\, und Linolschnitt\, und Buchdruck. Es werden keine Vorkenntnisse vorausgesetzt. Die Teilnehmenden werden individuell beraten und bei der Realisierung ihrer Projekte begleitet. \n\nLeitung: Lucinda Tanner (Englisch/Deutsch) \n  \nKosten\nEin Kursabend kostet für Nichtmitglieder CHF 60\, für Mitglieder CHF 50 \nDruck-Pass für zehn Abende: CHF 500\nfür Studierende unter 25 Jahren CHF 300 \nfür Vereinsmitglieder ist das elfte Mal gratis \nDie Jahresmiete Ateliernutzung berechtigt\, den Kurs für einen Unkostenbeitrag von CHF 10 zu besuchen. \n  \nDieser Kurs findet an den folgenden Daten nicht statt:\n19.02.\, 26.02.\, 02.04. und 09.04.2026 \n 
URL:https://druckwerk.ch/veranstaltung/bild-und-schrift/2026-01-22/
LOCATION:druckwerk\, Burgweg 7\, Basel\, 4058\, Switzerland
CATEGORIES:Bild und Schrift,Wöchentliche Kurse
ATTACH;FMTTYPE=image/jpeg:https://druckwerk.ch/wp-content/uploads/2024/12/Bild_und_Schrift_1-e1734695425121.jpg
ORGANIZER;CN="druckwerk":MAILTO:info@druckwerk.ch
END:VEVENT
BEGIN:VEVENT
DTSTART;TZID=Europe/Zurich:20260124T110000
DTEND;TZID=Europe/Zurich:20260125T160000
DTSTAMP:20260423T190952
CREATED:20251209T191107Z
LAST-MODIFIED:20251209T191107Z
UID:10002388-1769252400-1769356800@druckwerk.ch
SUMMARY:Haiku: Wort & Bild
DESCRIPTION:Sie schreiben und illustrieren Ihr eigenes Haiku in Buchdruck und Reliefdruck. \nErleben Sie das Vergnügen des analogen Gestaltens\, das Wort und Bild auf derselben Seite verbindet. Nachdem Sie Ihr Gedicht verfasst haben\, setzen und drucken Sie Ihren Text mit Holz- oder Metalllettern. Eine Illustration wird mit experimentellem Reliefdruck erstellt. Geeignet sowohl für Anfänger als auch für erfahrene Druckgrafiker. \nHaiku: word & image\nWrite and then publish your own Haiku poem using letterpress and linocut techniques. Experience the pleasure of analog publishing\, combining word and image on the page. After penning your poem\, you will set and print your text with wooden or metal type. An illustration will be achieved with a linocut print. Suitable for both beginners and experienced printmakers. \nKurssprache: Englisch/Deutsch\nKursleitung: Lucinda Tanner\n \nUm sich für diesen Kurs anzumelden\, schreiben Sie bitte an office@druckwerk.ch. \n  \nKosten:\ninkl. Farben und Verbrauchsmaterialien\, exkl. Papier und Druckplatten\nCHF 240  für einen zweitägigen Kurs\n\nCHF 120  für einen eintägigen Kurs \n\nFür Mitglieder des Vereins druckwerks und Personen mit der Kulturlegi:\nCHF 160 für einen zweitägigen Kurs\nCHF 80 für einen eintägigen Kurs\n\n\nAnmeldebedingungen: Die Anmeldungen werden nach der Reihenfolge des Eingangs berücksichtigt. Kurzfristige Anmeldungen sind möglich\, sofern freie Plätze zur Verfügung stehen.\nBei Abmeldungen\, die erst 5 Tage vor Kursbeginn erfolgen\, ist die Hälfte des Kursgeldes zu entrichten. Bei Nicht-Erscheinen wird das ganze Kursgeld fällig. \nVersicherung: ist Sache der Teilnehmenden. \n 
URL:https://druckwerk.ch/veranstaltung/haiku-wort-bild-2/
LOCATION:druckwerk\, Burgweg 7\, Basel\, 4058\, Switzerland
CATEGORIES:Druckfrisch
ATTACH;FMTTYPE=image/jpeg:https://druckwerk.ch/wp-content/uploads/2024/12/druckfrisch_17-18.05.2025-e1735035727812.jpg
ORGANIZER;CN="druckwerk":MAILTO:info@druckwerk.ch
END:VEVENT
BEGIN:VEVENT
DTSTART;TZID=Europe/Zurich:20260127T170000
DTEND;TZID=Europe/Zurich:20260127T200000
DTSTAMP:20260423T190952
CREATED:20250228T104838Z
LAST-MODIFIED:20260123T101201Z
UID:10002396-1769533200-1769544000@druckwerk.ch
SUMMARY:Offenes Atelier
DESCRIPTION:Jeden Dienstagabend\, 17-20 Uhr \nWenn Sie Fragen haben oder diesen Kurs am nächsten Dienstagabend besuchen möchten\, wenden Sie sich bitte an Annegret Dürig. \n  \n\n\n\n\nFür alle\, die das druckwerk kennenlernen oder mit andern zusammen arbeiten wollen. Schwerpunkt im Bereich Tiefdruck (Photopolymer\, Radierung\, experimentelle Techniken). \nDie Teilnehmenden werden bei der Realisierung ihrer Projekte individuell unterstützt. \n\n\n\n\n  \nLeitung: (abwechselnd) Annegret Dürig\, Dorothee Dieterich \n  \nKosten\nEin Kursabend kostet für Nichtmitglieder CHF 60\, für Mitglieder CHF 50 \nDruck-Pass für zehn Abende: CHF 500\nfür Studierende unter 25 Jahren CHF 300 \nfür Vereinsmitglieder ist das elfte Mal gratis \nDie Jahresmiete Ateliernutzung berechtigt\, den Kurs für einen Unkostenbeitrag von CHF 10 zu besuchen. \n  \nDas Offene Atelier findet nicht in den Schulferien statt. \n  \n\n    \n        \n            \n                \n                \n                \n                \n                \n                \n            \n        \n        \n    \n\n 
URL:https://druckwerk.ch/veranstaltung/offenes-atelier/2026-01-27/
LOCATION:druckwerk\, Burgweg 7\, Basel\, 4058\, Switzerland
CATEGORIES:Offenes Atelier,Wöchentliche Kurse
ATTACH;FMTTYPE=image/jpeg:https://druckwerk.ch/wp-content/uploads/2024/11/offene_werkstatt-e1740093856865.jpg
ORGANIZER;CN="druckwerk":MAILTO:info@druckwerk.ch
END:VEVENT
BEGIN:VEVENT
DTSTART;TZID=Europe/Zurich:20260128T173000
DTEND;TZID=Europe/Zurich:20260128T203000
DTSTAMP:20260423T190952
CREATED:20241220T110740Z
LAST-MODIFIED:20260106T153947Z
UID:10001531-1769621400-1769632200@druckwerk.ch
SUMMARY:Moku Hanga & Lithographie
DESCRIPTION:Jeden Mittwochabend\, 17.30-20.30 Uhr \nWenn Sie Fragen haben oder diesen Kurs am nächsten Mittwochabend besuchen möchten\, wenden Sie sich bitte an Ayako Kyodo. \nIm Kurs erlernen Sie die traditionelle Herstellung eines japanischen Holzdrucks in mehreren Farben. Sie werden in die Verwendung der japanischen Werkzeuge\, die Mixtur der Farben und der spezifischen Druckmethode eingeführt. Sie entwerfen die Schwarzlinien Ihres Sujets\, schneiden Sie in den Holzstock\, anschliessend planen und schneiden Sie eine oder mehrere Farbplatten.\nDer Kurs ermöglicht aber auch allen Interessierten das Arbeiten im Bereich der Lithographie. \nDie Teilnehmenden werden individuell beraten und bei der Realisierung ihrer Projekte begleitet. \n\nLeitung: Ayako Kyodo und als Vertretung Florian Dammeyer \n\nKosten\nEin Kursabend kostet für Nichtmitglieder CHF 60\, für Mitglieder CHF 50 \nDruck-Pass für zehn Abende: CHF 500\nfür Studierende unter 25 Jahren CHF 300 \nfür Vereinsmitglieder ist das elfte Mal gratis \nDie Jahresmiete Ateliernutzung berechtigt\, den Kurs für einen Unkostenbeitrag von CHF 10 zu besuchen. \n 
URL:https://druckwerk.ch/veranstaltung/japanischer-holzschnitt-moku-hanga/2026-01-28/
LOCATION:druckwerk\, Burgweg 7\, Basel\, 4058\, Switzerland
CATEGORIES:Moku Hanga & Lithographie,Wöchentliche Kurse
ATTACH;FMTTYPE=image/jpeg:https://druckwerk.ch/wp-content/uploads/2024/12/f1c67f99278c0eaf2fb2e464ad263c0b_f1104.jpg
ORGANIZER;CN="druckwerk":MAILTO:info@druckwerk.ch
END:VEVENT
BEGIN:VEVENT
DTSTART;TZID=Europe/Zurich:20260129T140000
DTEND;TZID=Europe/Zurich:20260129T170000
DTSTAMP:20260423T190952
CREATED:20260123T094328Z
LAST-MODIFIED:20260123T102954Z
UID:10002419-1769695200-1769706000@druckwerk.ch
SUMMARY:Offene Werkstatt
DESCRIPTION:Jeden Donnerstag\, 14-17 Uhr \nWenn Sie Fragen haben oder diesen Kurs am nächsten Donnerstagnachmittag besuchen möchten\, wenden Sie sich bitte an Marcel Mayer. \nDruckgrafik als künstlerisches Ausdrucksmittel erfahren und eigene künstlerische Projekte unter fachkundiger Assistenz realisieren. \n\n\n\nDabei können alle technischen Möglichkeiten des Ateliers genutzt werden: Lithografie\, Radierung\, Holz- und Linolschnitt und Bleisatz. Es werden keine Vorkenntnisse vorausgesetzt. Individuelle Beratung und Begleitung – ambitionierte und unkonventionelle Projekte sind willkommen. \n\n\n\nLeitung: Marcel Mayer \n  \nKosten\nEin Kursabend kostet für Nichtmitglieder CHF 60\, für Mitglieder CHF 50 \nDruck-Pass für zehn Abende: CHF 500\nfür Studierende unter 25 Jahren CHF 300 \nfür Vereinsmitglieder ist das elfte Mal gratis \nDie Jahresmiete Ateliernutzung berechtigt\, den Kurs für einen Unkostenbeitrag von CHF 10 zu besuchen. \n  \nDie Offene Werkstatt findet nicht in den Schulferien statt. \n  \n\n    \n        \n            \n                \n                \n                \n                \n                \n                \n            \n        \n        \n    \n\n 
URL:https://druckwerk.ch/veranstaltung/offene-werkstatt/2026-01-29/
LOCATION:druckwerk\, Burgweg 7\, Basel\, 4058\, Switzerland
CATEGORIES:Offene Werkstatt,Wöchentliche Kurse
ATTACH;FMTTYPE=image/jpeg:https://druckwerk.ch/wp-content/uploads/2026/01/2025_Marcel-Mayer_Do_kurs_druckwerk_©margarit_lehmann--e1769161716637.jpg
ORGANIZER;CN="druckwerk":MAILTO:info@druckwerk.ch
END:VEVENT
BEGIN:VEVENT
DTSTART;TZID=Europe/Zurich:20260129T173000
DTEND;TZID=Europe/Zurich:20260129T203000
DTSTAMP:20260423T190953
CREATED:20241220T115141Z
LAST-MODIFIED:20260123T103635Z
UID:10002110-1769707800-1769718600@druckwerk.ch
SUMMARY:Bild und Schrift
DESCRIPTION:Jeden Donnerstagabend\, 17:30-20:30 Uhr \nWenn Sie Fragen haben oder diesen Kurs am nächsten Donnerstagabend besuchen möchten\, wenden Sie sich bitte an Lucinda Tanner. \nKombinieren Sie Bild und Text mit zwei Hochdrucktechniken.\nDas offene Atelier ist eine Einführung und Begleitung in den Bereich Hochdruck-\, Holz-\, und Linolschnitt\, und Buchdruck. Es werden keine Vorkenntnisse vorausgesetzt. Die Teilnehmenden werden individuell beraten und bei der Realisierung ihrer Projekte begleitet. \n\nLeitung: Lucinda Tanner (Englisch/Deutsch) \n  \nKosten\nEin Kursabend kostet für Nichtmitglieder CHF 60\, für Mitglieder CHF 50 \nDruck-Pass für zehn Abende: CHF 500\nfür Studierende unter 25 Jahren CHF 300 \nfür Vereinsmitglieder ist das elfte Mal gratis \nDie Jahresmiete Ateliernutzung berechtigt\, den Kurs für einen Unkostenbeitrag von CHF 10 zu besuchen. \n  \nDieser Kurs findet an den folgenden Daten nicht statt:\n19.02.\, 26.02.\, 02.04. und 09.04.2026 \n 
URL:https://druckwerk.ch/veranstaltung/bild-und-schrift/2026-01-29/
LOCATION:druckwerk\, Burgweg 7\, Basel\, 4058\, Switzerland
CATEGORIES:Bild und Schrift,Wöchentliche Kurse
ATTACH;FMTTYPE=image/jpeg:https://druckwerk.ch/wp-content/uploads/2024/12/Bild_und_Schrift_1-e1734695425121.jpg
ORGANIZER;CN="druckwerk":MAILTO:info@druckwerk.ch
END:VEVENT
END:VCALENDAR