BEGIN:VCALENDAR
VERSION:2.0
PRODID:-//druckwerk - ECPv6.15.14//NONSGML v1.0//EN
CALSCALE:GREGORIAN
METHOD:PUBLISH
X-WR-CALNAME:druckwerk
X-ORIGINAL-URL:https://druckwerk.ch
X-WR-CALDESC:Veranstaltungen für druckwerk
REFRESH-INTERVAL;VALUE=DURATION:PT1H
X-Robots-Tag:noindex
X-PUBLISHED-TTL:PT1H
BEGIN:VTIMEZONE
TZID:Europe/Zurich
BEGIN:DAYLIGHT
TZOFFSETFROM:+0100
TZOFFSETTO:+0200
TZNAME:CEST
DTSTART:20250330T010000
END:DAYLIGHT
BEGIN:STANDARD
TZOFFSETFROM:+0200
TZOFFSETTO:+0100
TZNAME:CET
DTSTART:20251026T010000
END:STANDARD
BEGIN:DAYLIGHT
TZOFFSETFROM:+0100
TZOFFSETTO:+0200
TZNAME:CEST
DTSTART:20260329T010000
END:DAYLIGHT
BEGIN:STANDARD
TZOFFSETFROM:+0200
TZOFFSETTO:+0100
TZNAME:CET
DTSTART:20261025T010000
END:STANDARD
BEGIN:DAYLIGHT
TZOFFSETFROM:+0100
TZOFFSETTO:+0200
TZNAME:CEST
DTSTART:20270328T010000
END:DAYLIGHT
BEGIN:STANDARD
TZOFFSETFROM:+0200
TZOFFSETTO:+0100
TZNAME:CET
DTSTART:20271031T010000
END:STANDARD
END:VTIMEZONE
BEGIN:VEVENT
DTSTART;TZID=Europe/Zurich:20260303T170000
DTEND;TZID=Europe/Zurich:20260303T200000
DTSTAMP:20260419T192239
CREATED:20250228T104838Z
LAST-MODIFIED:20260123T101201Z
UID:10002401-1772557200-1772568000@druckwerk.ch
SUMMARY:Offenes Atelier
DESCRIPTION:Jeden Dienstagabend\, 17-20 Uhr \nWenn Sie Fragen haben oder diesen Kurs am nächsten Dienstagabend besuchen möchten\, wenden Sie sich bitte an Annegret Dürig. \n  \n\n\n\n\nFür alle\, die das druckwerk kennenlernen oder mit andern zusammen arbeiten wollen. Schwerpunkt im Bereich Tiefdruck (Photopolymer\, Radierung\, experimentelle Techniken). \nDie Teilnehmenden werden bei der Realisierung ihrer Projekte individuell unterstützt. \n\n\n\n\n  \nLeitung: (abwechselnd) Annegret Dürig\, Dorothee Dieterich \n  \nKosten\nEin Kursabend kostet für Nichtmitglieder CHF 60\, für Mitglieder CHF 50 \nDruck-Pass für zehn Abende: CHF 500\nfür Studierende unter 25 Jahren CHF 300 \nfür Vereinsmitglieder ist das elfte Mal gratis \nDie Jahresmiete Ateliernutzung berechtigt\, den Kurs für einen Unkostenbeitrag von CHF 10 zu besuchen. \n  \nDas Offene Atelier findet nicht in den Schulferien statt. \n  \n\n    \n        \n            \n                \n                \n                \n                \n                \n                \n            \n        \n        \n    \n\n 
URL:https://druckwerk.ch/veranstaltung/offenes-atelier/2026-03-03/
LOCATION:druckwerk\, Burgweg 7\, Basel\, 4058\, Switzerland
CATEGORIES:Offenes Atelier,Wöchentliche Kurse
ATTACH;FMTTYPE=image/jpeg:https://druckwerk.ch/wp-content/uploads/2024/11/offene_werkstatt-e1740093856865.jpg
ORGANIZER;CN="druckwerk":MAILTO:info@druckwerk.ch
END:VEVENT
BEGIN:VEVENT
DTSTART;TZID=Europe/Zurich:20260304T173000
DTEND;TZID=Europe/Zurich:20260304T203000
DTSTAMP:20260419T192240
CREATED:20241220T110740Z
LAST-MODIFIED:20260106T153947Z
UID:10001536-1772645400-1772656200@druckwerk.ch
SUMMARY:Moku Hanga & Lithographie
DESCRIPTION:Jeden Mittwochabend\, 17.30-20.30 Uhr \nWenn Sie Fragen haben oder diesen Kurs am nächsten Mittwochabend besuchen möchten\, wenden Sie sich bitte an Ayako Kyodo. \nIm Kurs erlernen Sie die traditionelle Herstellung eines japanischen Holzdrucks in mehreren Farben. Sie werden in die Verwendung der japanischen Werkzeuge\, die Mixtur der Farben und der spezifischen Druckmethode eingeführt. Sie entwerfen die Schwarzlinien Ihres Sujets\, schneiden Sie in den Holzstock\, anschliessend planen und schneiden Sie eine oder mehrere Farbplatten.\nDer Kurs ermöglicht aber auch allen Interessierten das Arbeiten im Bereich der Lithographie. \nDie Teilnehmenden werden individuell beraten und bei der Realisierung ihrer Projekte begleitet. \n\nLeitung: Ayako Kyodo und als Vertretung Florian Dammeyer \n\nKosten\nEin Kursabend kostet für Nichtmitglieder CHF 60\, für Mitglieder CHF 50 \nDruck-Pass für zehn Abende: CHF 500\nfür Studierende unter 25 Jahren CHF 300 \nfür Vereinsmitglieder ist das elfte Mal gratis \nDie Jahresmiete Ateliernutzung berechtigt\, den Kurs für einen Unkostenbeitrag von CHF 10 zu besuchen. \n 
URL:https://druckwerk.ch/veranstaltung/japanischer-holzschnitt-moku-hanga/2026-03-04/
LOCATION:druckwerk\, Burgweg 7\, Basel\, 4058\, Switzerland
CATEGORIES:Moku Hanga & Lithographie,Wöchentliche Kurse
ATTACH;FMTTYPE=image/jpeg:https://druckwerk.ch/wp-content/uploads/2024/12/f1c67f99278c0eaf2fb2e464ad263c0b_f1104.jpg
ORGANIZER;CN="druckwerk":MAILTO:info@druckwerk.ch
END:VEVENT
BEGIN:VEVENT
DTSTART;TZID=Europe/Zurich:20260305T140000
DTEND;TZID=Europe/Zurich:20260305T170000
DTSTAMP:20260419T192240
CREATED:20260123T094328Z
LAST-MODIFIED:20260123T102954Z
UID:10002421-1772719200-1772730000@druckwerk.ch
SUMMARY:Offene Werkstatt
DESCRIPTION:Jeden Donnerstag\, 14-17 Uhr \nWenn Sie Fragen haben oder diesen Kurs am nächsten Donnerstagnachmittag besuchen möchten\, wenden Sie sich bitte an Marcel Mayer. \nDruckgrafik als künstlerisches Ausdrucksmittel erfahren und eigene künstlerische Projekte unter fachkundiger Assistenz realisieren. \n\n\n\nDabei können alle technischen Möglichkeiten des Ateliers genutzt werden: Lithografie\, Radierung\, Holz- und Linolschnitt und Bleisatz. Es werden keine Vorkenntnisse vorausgesetzt. Individuelle Beratung und Begleitung – ambitionierte und unkonventionelle Projekte sind willkommen. \n\n\n\nLeitung: Marcel Mayer \n  \nKosten\nEin Kursabend kostet für Nichtmitglieder CHF 60\, für Mitglieder CHF 50 \nDruck-Pass für zehn Abende: CHF 500\nfür Studierende unter 25 Jahren CHF 300 \nfür Vereinsmitglieder ist das elfte Mal gratis \nDie Jahresmiete Ateliernutzung berechtigt\, den Kurs für einen Unkostenbeitrag von CHF 10 zu besuchen. \n  \nDie Offene Werkstatt findet nicht in den Schulferien statt. \n  \n\n    \n        \n            \n                \n                \n                \n                \n                \n                \n            \n        \n        \n    \n\n 
URL:https://druckwerk.ch/veranstaltung/offene-werkstatt/2026-03-05/
LOCATION:druckwerk\, Burgweg 7\, Basel\, 4058\, Switzerland
CATEGORIES:Offene Werkstatt,Wöchentliche Kurse
ATTACH;FMTTYPE=image/jpeg:https://druckwerk.ch/wp-content/uploads/2026/01/2025_Marcel-Mayer_Do_kurs_druckwerk_©margarit_lehmann--e1769161716637.jpg
ORGANIZER;CN="druckwerk":MAILTO:info@druckwerk.ch
END:VEVENT
BEGIN:VEVENT
DTSTART;TZID=Europe/Zurich:20260305T173000
DTEND;TZID=Europe/Zurich:20260305T203000
DTSTAMP:20260419T192240
CREATED:20241220T115141Z
LAST-MODIFIED:20260123T103635Z
UID:10002115-1772731800-1772742600@druckwerk.ch
SUMMARY:Bild und Schrift
DESCRIPTION:Jeden Donnerstagabend\, 17:30-20:30 Uhr \nWenn Sie Fragen haben oder diesen Kurs am nächsten Donnerstagabend besuchen möchten\, wenden Sie sich bitte an Lucinda Tanner. \nKombinieren Sie Bild und Text mit zwei Hochdrucktechniken.\nDas offene Atelier ist eine Einführung und Begleitung in den Bereich Hochdruck-\, Holz-\, und Linolschnitt\, und Buchdruck. Es werden keine Vorkenntnisse vorausgesetzt. Die Teilnehmenden werden individuell beraten und bei der Realisierung ihrer Projekte begleitet. \n\nLeitung: Lucinda Tanner (Englisch/Deutsch) \n  \nKosten\nEin Kursabend kostet für Nichtmitglieder CHF 60\, für Mitglieder CHF 50 \nDruck-Pass für zehn Abende: CHF 500\nfür Studierende unter 25 Jahren CHF 300 \nfür Vereinsmitglieder ist das elfte Mal gratis \nDie Jahresmiete Ateliernutzung berechtigt\, den Kurs für einen Unkostenbeitrag von CHF 10 zu besuchen. \n  \nDieser Kurs findet an den folgenden Daten nicht statt:\n19.02.\, 26.02.\, 02.04. und 09.04.2026 \n 
URL:https://druckwerk.ch/veranstaltung/bild-und-schrift/2026-03-05/
LOCATION:druckwerk\, Burgweg 7\, Basel\, 4058\, Switzerland
CATEGORIES:Bild und Schrift,Wöchentliche Kurse
ATTACH;FMTTYPE=image/jpeg:https://druckwerk.ch/wp-content/uploads/2024/12/Bild_und_Schrift_1-e1734695425121.jpg
ORGANIZER;CN="druckwerk":MAILTO:info@druckwerk.ch
END:VEVENT
BEGIN:VEVENT
DTSTART;TZID=Europe/Zurich:20260310T170000
DTEND;TZID=Europe/Zurich:20260310T200000
DTSTAMP:20260419T192240
CREATED:20250228T104838Z
LAST-MODIFIED:20260123T101201Z
UID:10002402-1773162000-1773172800@druckwerk.ch
SUMMARY:Offenes Atelier
DESCRIPTION:Jeden Dienstagabend\, 17-20 Uhr \nWenn Sie Fragen haben oder diesen Kurs am nächsten Dienstagabend besuchen möchten\, wenden Sie sich bitte an Annegret Dürig. \n  \n\n\n\n\nFür alle\, die das druckwerk kennenlernen oder mit andern zusammen arbeiten wollen. Schwerpunkt im Bereich Tiefdruck (Photopolymer\, Radierung\, experimentelle Techniken). \nDie Teilnehmenden werden bei der Realisierung ihrer Projekte individuell unterstützt. \n\n\n\n\n  \nLeitung: (abwechselnd) Annegret Dürig\, Dorothee Dieterich \n  \nKosten\nEin Kursabend kostet für Nichtmitglieder CHF 60\, für Mitglieder CHF 50 \nDruck-Pass für zehn Abende: CHF 500\nfür Studierende unter 25 Jahren CHF 300 \nfür Vereinsmitglieder ist das elfte Mal gratis \nDie Jahresmiete Ateliernutzung berechtigt\, den Kurs für einen Unkostenbeitrag von CHF 10 zu besuchen. \n  \nDas Offene Atelier findet nicht in den Schulferien statt. \n  \n\n    \n        \n            \n                \n                \n                \n                \n                \n                \n            \n        \n        \n    \n\n 
URL:https://druckwerk.ch/veranstaltung/offenes-atelier/2026-03-10/
LOCATION:druckwerk\, Burgweg 7\, Basel\, 4058\, Switzerland
CATEGORIES:Offenes Atelier,Wöchentliche Kurse
ATTACH;FMTTYPE=image/jpeg:https://druckwerk.ch/wp-content/uploads/2024/11/offene_werkstatt-e1740093856865.jpg
ORGANIZER;CN="druckwerk":MAILTO:info@druckwerk.ch
END:VEVENT
BEGIN:VEVENT
DTSTART;TZID=Europe/Zurich:20260311T173000
DTEND;TZID=Europe/Zurich:20260311T203000
DTSTAMP:20260419T192240
CREATED:20241220T110740Z
LAST-MODIFIED:20260106T153947Z
UID:10001537-1773250200-1773261000@druckwerk.ch
SUMMARY:Moku Hanga & Lithographie
DESCRIPTION:Jeden Mittwochabend\, 17.30-20.30 Uhr \nWenn Sie Fragen haben oder diesen Kurs am nächsten Mittwochabend besuchen möchten\, wenden Sie sich bitte an Ayako Kyodo. \nIm Kurs erlernen Sie die traditionelle Herstellung eines japanischen Holzdrucks in mehreren Farben. Sie werden in die Verwendung der japanischen Werkzeuge\, die Mixtur der Farben und der spezifischen Druckmethode eingeführt. Sie entwerfen die Schwarzlinien Ihres Sujets\, schneiden Sie in den Holzstock\, anschliessend planen und schneiden Sie eine oder mehrere Farbplatten.\nDer Kurs ermöglicht aber auch allen Interessierten das Arbeiten im Bereich der Lithographie. \nDie Teilnehmenden werden individuell beraten und bei der Realisierung ihrer Projekte begleitet. \n\nLeitung: Ayako Kyodo und als Vertretung Florian Dammeyer \n\nKosten\nEin Kursabend kostet für Nichtmitglieder CHF 60\, für Mitglieder CHF 50 \nDruck-Pass für zehn Abende: CHF 500\nfür Studierende unter 25 Jahren CHF 300 \nfür Vereinsmitglieder ist das elfte Mal gratis \nDie Jahresmiete Ateliernutzung berechtigt\, den Kurs für einen Unkostenbeitrag von CHF 10 zu besuchen. \n 
URL:https://druckwerk.ch/veranstaltung/japanischer-holzschnitt-moku-hanga/2026-03-11/
LOCATION:druckwerk\, Burgweg 7\, Basel\, 4058\, Switzerland
CATEGORIES:Moku Hanga & Lithographie,Wöchentliche Kurse
ATTACH;FMTTYPE=image/jpeg:https://druckwerk.ch/wp-content/uploads/2024/12/f1c67f99278c0eaf2fb2e464ad263c0b_f1104.jpg
ORGANIZER;CN="druckwerk":MAILTO:info@druckwerk.ch
END:VEVENT
BEGIN:VEVENT
DTSTART;TZID=Europe/Zurich:20260312T140000
DTEND;TZID=Europe/Zurich:20260312T170000
DTSTAMP:20260419T192240
CREATED:20260123T094328Z
LAST-MODIFIED:20260123T102954Z
UID:10002422-1773324000-1773334800@druckwerk.ch
SUMMARY:Offene Werkstatt
DESCRIPTION:Jeden Donnerstag\, 14-17 Uhr \nWenn Sie Fragen haben oder diesen Kurs am nächsten Donnerstagnachmittag besuchen möchten\, wenden Sie sich bitte an Marcel Mayer. \nDruckgrafik als künstlerisches Ausdrucksmittel erfahren und eigene künstlerische Projekte unter fachkundiger Assistenz realisieren. \n\n\n\nDabei können alle technischen Möglichkeiten des Ateliers genutzt werden: Lithografie\, Radierung\, Holz- und Linolschnitt und Bleisatz. Es werden keine Vorkenntnisse vorausgesetzt. Individuelle Beratung und Begleitung – ambitionierte und unkonventionelle Projekte sind willkommen. \n\n\n\nLeitung: Marcel Mayer \n  \nKosten\nEin Kursabend kostet für Nichtmitglieder CHF 60\, für Mitglieder CHF 50 \nDruck-Pass für zehn Abende: CHF 500\nfür Studierende unter 25 Jahren CHF 300 \nfür Vereinsmitglieder ist das elfte Mal gratis \nDie Jahresmiete Ateliernutzung berechtigt\, den Kurs für einen Unkostenbeitrag von CHF 10 zu besuchen. \n  \nDie Offene Werkstatt findet nicht in den Schulferien statt. \n  \n\n    \n        \n            \n                \n                \n                \n                \n                \n                \n            \n        \n        \n    \n\n 
URL:https://druckwerk.ch/veranstaltung/offene-werkstatt/2026-03-12/
LOCATION:druckwerk\, Burgweg 7\, Basel\, 4058\, Switzerland
CATEGORIES:Offene Werkstatt,Wöchentliche Kurse
ATTACH;FMTTYPE=image/jpeg:https://druckwerk.ch/wp-content/uploads/2026/01/2025_Marcel-Mayer_Do_kurs_druckwerk_©margarit_lehmann--e1769161716637.jpg
ORGANIZER;CN="druckwerk":MAILTO:info@druckwerk.ch
END:VEVENT
BEGIN:VEVENT
DTSTART;TZID=Europe/Zurich:20260312T173000
DTEND;TZID=Europe/Zurich:20260312T203000
DTSTAMP:20260419T192240
CREATED:20241220T115141Z
LAST-MODIFIED:20260123T103635Z
UID:10002116-1773336600-1773347400@druckwerk.ch
SUMMARY:Bild und Schrift
DESCRIPTION:Jeden Donnerstagabend\, 17:30-20:30 Uhr \nWenn Sie Fragen haben oder diesen Kurs am nächsten Donnerstagabend besuchen möchten\, wenden Sie sich bitte an Lucinda Tanner. \nKombinieren Sie Bild und Text mit zwei Hochdrucktechniken.\nDas offene Atelier ist eine Einführung und Begleitung in den Bereich Hochdruck-\, Holz-\, und Linolschnitt\, und Buchdruck. Es werden keine Vorkenntnisse vorausgesetzt. Die Teilnehmenden werden individuell beraten und bei der Realisierung ihrer Projekte begleitet. \n\nLeitung: Lucinda Tanner (Englisch/Deutsch) \n  \nKosten\nEin Kursabend kostet für Nichtmitglieder CHF 60\, für Mitglieder CHF 50 \nDruck-Pass für zehn Abende: CHF 500\nfür Studierende unter 25 Jahren CHF 300 \nfür Vereinsmitglieder ist das elfte Mal gratis \nDie Jahresmiete Ateliernutzung berechtigt\, den Kurs für einen Unkostenbeitrag von CHF 10 zu besuchen. \n  \nDieser Kurs findet an den folgenden Daten nicht statt:\n19.02.\, 26.02.\, 02.04. und 09.04.2026 \n 
URL:https://druckwerk.ch/veranstaltung/bild-und-schrift/2026-03-12/
LOCATION:druckwerk\, Burgweg 7\, Basel\, 4058\, Switzerland
CATEGORIES:Bild und Schrift,Wöchentliche Kurse
ATTACH;FMTTYPE=image/jpeg:https://druckwerk.ch/wp-content/uploads/2024/12/Bild_und_Schrift_1-e1734695425121.jpg
ORGANIZER;CN="druckwerk":MAILTO:info@druckwerk.ch
END:VEVENT
BEGIN:VEVENT
DTSTART;TZID=Europe/Zurich:20260317T170000
DTEND;TZID=Europe/Zurich:20260317T200000
DTSTAMP:20260419T192240
CREATED:20250228T104838Z
LAST-MODIFIED:20260123T101201Z
UID:10002403-1773766800-1773777600@druckwerk.ch
SUMMARY:Offenes Atelier
DESCRIPTION:Jeden Dienstagabend\, 17-20 Uhr \nWenn Sie Fragen haben oder diesen Kurs am nächsten Dienstagabend besuchen möchten\, wenden Sie sich bitte an Annegret Dürig. \n  \n\n\n\n\nFür alle\, die das druckwerk kennenlernen oder mit andern zusammen arbeiten wollen. Schwerpunkt im Bereich Tiefdruck (Photopolymer\, Radierung\, experimentelle Techniken). \nDie Teilnehmenden werden bei der Realisierung ihrer Projekte individuell unterstützt. \n\n\n\n\n  \nLeitung: (abwechselnd) Annegret Dürig\, Dorothee Dieterich \n  \nKosten\nEin Kursabend kostet für Nichtmitglieder CHF 60\, für Mitglieder CHF 50 \nDruck-Pass für zehn Abende: CHF 500\nfür Studierende unter 25 Jahren CHF 300 \nfür Vereinsmitglieder ist das elfte Mal gratis \nDie Jahresmiete Ateliernutzung berechtigt\, den Kurs für einen Unkostenbeitrag von CHF 10 zu besuchen. \n  \nDas Offene Atelier findet nicht in den Schulferien statt. \n  \n\n    \n        \n            \n                \n                \n                \n                \n                \n                \n            \n        \n        \n    \n\n 
URL:https://druckwerk.ch/veranstaltung/offenes-atelier/2026-03-17/
LOCATION:druckwerk\, Burgweg 7\, Basel\, 4058\, Switzerland
CATEGORIES:Offenes Atelier,Wöchentliche Kurse
ATTACH;FMTTYPE=image/jpeg:https://druckwerk.ch/wp-content/uploads/2024/11/offene_werkstatt-e1740093856865.jpg
ORGANIZER;CN="druckwerk":MAILTO:info@druckwerk.ch
END:VEVENT
BEGIN:VEVENT
DTSTART;TZID=Europe/Zurich:20260318T110000
DTEND;TZID=Europe/Zurich:20260318T180000
DTSTAMP:20260419T192240
CREATED:20260320T191519Z
LAST-MODIFIED:20260403T104054Z
UID:10002702-1773831600-1773856800@druckwerk.ch
SUMMARY:druckwerk als "machine imaginaire"
DESCRIPTION:23 Schüler:innen des Collège Voltaire in Genf nahmen im März 2026 am Workshop teil. \nIm Rahmen einer Erkundung von Variation\, Überraschung und Entdeckung wurden Einschränkungen\, kontrollierte Veränderungen und Zufallselemente mit traditionellen analogen Drucktechniken in Einklang gebracht.\nInspiriert von der aktuellen Ausstellung Möglichkeiten von Vera Molnár im Kunstmuseum Basel. \n\nLeitung: Lucinda Tanner \nMitarbeiter:innen: Dorothee Dieterich und Marcel Mayer \n\n\n\n\n\n\n 
URL:https://druckwerk.ch/veranstaltung/machine-imaginaire/
LOCATION:druckwerk\, Burgweg 7\, Basel\, 4058\, Switzerland
CATEGORIES:Fachklasse,Private Workshops
ATTACH;FMTTYPE=image/jpeg:https://druckwerk.ch/wp-content/uploads/2026/03/2026_druckwerk-as-machine-imaginaire-_-Margarit-Lehmann_42.jpg
ORGANIZER;CN="druckwerk":MAILTO:info@druckwerk.ch
END:VEVENT
BEGIN:VEVENT
DTSTART;TZID=Europe/Zurich:20260318T173000
DTEND;TZID=Europe/Zurich:20260318T203000
DTSTAMP:20260419T192241
CREATED:20241220T110740Z
LAST-MODIFIED:20260106T153947Z
UID:10001538-1773855000-1773865800@druckwerk.ch
SUMMARY:Moku Hanga & Lithographie
DESCRIPTION:Jeden Mittwochabend\, 17.30-20.30 Uhr \nWenn Sie Fragen haben oder diesen Kurs am nächsten Mittwochabend besuchen möchten\, wenden Sie sich bitte an Ayako Kyodo. \nIm Kurs erlernen Sie die traditionelle Herstellung eines japanischen Holzdrucks in mehreren Farben. Sie werden in die Verwendung der japanischen Werkzeuge\, die Mixtur der Farben und der spezifischen Druckmethode eingeführt. Sie entwerfen die Schwarzlinien Ihres Sujets\, schneiden Sie in den Holzstock\, anschliessend planen und schneiden Sie eine oder mehrere Farbplatten.\nDer Kurs ermöglicht aber auch allen Interessierten das Arbeiten im Bereich der Lithographie. \nDie Teilnehmenden werden individuell beraten und bei der Realisierung ihrer Projekte begleitet. \n\nLeitung: Ayako Kyodo und als Vertretung Florian Dammeyer \n\nKosten\nEin Kursabend kostet für Nichtmitglieder CHF 60\, für Mitglieder CHF 50 \nDruck-Pass für zehn Abende: CHF 500\nfür Studierende unter 25 Jahren CHF 300 \nfür Vereinsmitglieder ist das elfte Mal gratis \nDie Jahresmiete Ateliernutzung berechtigt\, den Kurs für einen Unkostenbeitrag von CHF 10 zu besuchen. \n 
URL:https://druckwerk.ch/veranstaltung/japanischer-holzschnitt-moku-hanga/2026-03-18/
LOCATION:druckwerk\, Burgweg 7\, Basel\, 4058\, Switzerland
CATEGORIES:Moku Hanga & Lithographie,Wöchentliche Kurse
ATTACH;FMTTYPE=image/jpeg:https://druckwerk.ch/wp-content/uploads/2024/12/f1c67f99278c0eaf2fb2e464ad263c0b_f1104.jpg
ORGANIZER;CN="druckwerk":MAILTO:info@druckwerk.ch
END:VEVENT
BEGIN:VEVENT
DTSTART;TZID=Europe/Zurich:20260319T140000
DTEND;TZID=Europe/Zurich:20260319T170000
DTSTAMP:20260419T192241
CREATED:20260123T094328Z
LAST-MODIFIED:20260123T102954Z
UID:10002423-1773928800-1773939600@druckwerk.ch
SUMMARY:Offene Werkstatt
DESCRIPTION:Jeden Donnerstag\, 14-17 Uhr \nWenn Sie Fragen haben oder diesen Kurs am nächsten Donnerstagnachmittag besuchen möchten\, wenden Sie sich bitte an Marcel Mayer. \nDruckgrafik als künstlerisches Ausdrucksmittel erfahren und eigene künstlerische Projekte unter fachkundiger Assistenz realisieren. \n\n\n\nDabei können alle technischen Möglichkeiten des Ateliers genutzt werden: Lithografie\, Radierung\, Holz- und Linolschnitt und Bleisatz. Es werden keine Vorkenntnisse vorausgesetzt. Individuelle Beratung und Begleitung – ambitionierte und unkonventionelle Projekte sind willkommen. \n\n\n\nLeitung: Marcel Mayer \n  \nKosten\nEin Kursabend kostet für Nichtmitglieder CHF 60\, für Mitglieder CHF 50 \nDruck-Pass für zehn Abende: CHF 500\nfür Studierende unter 25 Jahren CHF 300 \nfür Vereinsmitglieder ist das elfte Mal gratis \nDie Jahresmiete Ateliernutzung berechtigt\, den Kurs für einen Unkostenbeitrag von CHF 10 zu besuchen. \n  \nDie Offene Werkstatt findet nicht in den Schulferien statt. \n  \n\n    \n        \n            \n                \n                \n                \n                \n                \n                \n            \n        \n        \n    \n\n 
URL:https://druckwerk.ch/veranstaltung/offene-werkstatt/2026-03-19/
LOCATION:druckwerk\, Burgweg 7\, Basel\, 4058\, Switzerland
CATEGORIES:Offene Werkstatt,Wöchentliche Kurse
ATTACH;FMTTYPE=image/jpeg:https://druckwerk.ch/wp-content/uploads/2026/01/2025_Marcel-Mayer_Do_kurs_druckwerk_©margarit_lehmann--e1769161716637.jpg
ORGANIZER;CN="druckwerk":MAILTO:info@druckwerk.ch
END:VEVENT
BEGIN:VEVENT
DTSTART;TZID=Europe/Zurich:20260319T173000
DTEND;TZID=Europe/Zurich:20260319T203000
DTSTAMP:20260419T192241
CREATED:20241220T115141Z
LAST-MODIFIED:20260123T103635Z
UID:10002117-1773941400-1773952200@druckwerk.ch
SUMMARY:Bild und Schrift
DESCRIPTION:Jeden Donnerstagabend\, 17:30-20:30 Uhr \nWenn Sie Fragen haben oder diesen Kurs am nächsten Donnerstagabend besuchen möchten\, wenden Sie sich bitte an Lucinda Tanner. \nKombinieren Sie Bild und Text mit zwei Hochdrucktechniken.\nDas offene Atelier ist eine Einführung und Begleitung in den Bereich Hochdruck-\, Holz-\, und Linolschnitt\, und Buchdruck. Es werden keine Vorkenntnisse vorausgesetzt. Die Teilnehmenden werden individuell beraten und bei der Realisierung ihrer Projekte begleitet. \n\nLeitung: Lucinda Tanner (Englisch/Deutsch) \n  \nKosten\nEin Kursabend kostet für Nichtmitglieder CHF 60\, für Mitglieder CHF 50 \nDruck-Pass für zehn Abende: CHF 500\nfür Studierende unter 25 Jahren CHF 300 \nfür Vereinsmitglieder ist das elfte Mal gratis \nDie Jahresmiete Ateliernutzung berechtigt\, den Kurs für einen Unkostenbeitrag von CHF 10 zu besuchen. \n  \nDieser Kurs findet an den folgenden Daten nicht statt:\n19.02.\, 26.02.\, 02.04. und 09.04.2026 \n 
URL:https://druckwerk.ch/veranstaltung/bild-und-schrift/2026-03-19/
LOCATION:druckwerk\, Burgweg 7\, Basel\, 4058\, Switzerland
CATEGORIES:Bild und Schrift,Wöchentliche Kurse
ATTACH;FMTTYPE=image/jpeg:https://druckwerk.ch/wp-content/uploads/2024/12/Bild_und_Schrift_1-e1734695425121.jpg
ORGANIZER;CN="druckwerk":MAILTO:info@druckwerk.ch
END:VEVENT
BEGIN:VEVENT
DTSTART;TZID=Europe/Zurich:20260324T170000
DTEND;TZID=Europe/Zurich:20260324T200000
DTSTAMP:20260419T192241
CREATED:20250228T104838Z
LAST-MODIFIED:20260123T101201Z
UID:10002404-1774371600-1774382400@druckwerk.ch
SUMMARY:Offenes Atelier
DESCRIPTION:Jeden Dienstagabend\, 17-20 Uhr \nWenn Sie Fragen haben oder diesen Kurs am nächsten Dienstagabend besuchen möchten\, wenden Sie sich bitte an Annegret Dürig. \n  \n\n\n\n\nFür alle\, die das druckwerk kennenlernen oder mit andern zusammen arbeiten wollen. Schwerpunkt im Bereich Tiefdruck (Photopolymer\, Radierung\, experimentelle Techniken). \nDie Teilnehmenden werden bei der Realisierung ihrer Projekte individuell unterstützt. \n\n\n\n\n  \nLeitung: (abwechselnd) Annegret Dürig\, Dorothee Dieterich \n  \nKosten\nEin Kursabend kostet für Nichtmitglieder CHF 60\, für Mitglieder CHF 50 \nDruck-Pass für zehn Abende: CHF 500\nfür Studierende unter 25 Jahren CHF 300 \nfür Vereinsmitglieder ist das elfte Mal gratis \nDie Jahresmiete Ateliernutzung berechtigt\, den Kurs für einen Unkostenbeitrag von CHF 10 zu besuchen. \n  \nDas Offene Atelier findet nicht in den Schulferien statt. \n  \n\n    \n        \n            \n                \n                \n                \n                \n                \n                \n            \n        \n        \n    \n\n 
URL:https://druckwerk.ch/veranstaltung/offenes-atelier/2026-03-24/
LOCATION:druckwerk\, Burgweg 7\, Basel\, 4058\, Switzerland
CATEGORIES:Offenes Atelier,Wöchentliche Kurse
ATTACH;FMTTYPE=image/jpeg:https://druckwerk.ch/wp-content/uploads/2024/11/offene_werkstatt-e1740093856865.jpg
ORGANIZER;CN="druckwerk":MAILTO:info@druckwerk.ch
END:VEVENT
BEGIN:VEVENT
DTSTART;TZID=Europe/Zurich:20260325T173000
DTEND;TZID=Europe/Zurich:20260325T203000
DTSTAMP:20260419T192241
CREATED:20241220T110740Z
LAST-MODIFIED:20260106T153947Z
UID:10001539-1774459800-1774470600@druckwerk.ch
SUMMARY:Moku Hanga & Lithographie
DESCRIPTION:Jeden Mittwochabend\, 17.30-20.30 Uhr \nWenn Sie Fragen haben oder diesen Kurs am nächsten Mittwochabend besuchen möchten\, wenden Sie sich bitte an Ayako Kyodo. \nIm Kurs erlernen Sie die traditionelle Herstellung eines japanischen Holzdrucks in mehreren Farben. Sie werden in die Verwendung der japanischen Werkzeuge\, die Mixtur der Farben und der spezifischen Druckmethode eingeführt. Sie entwerfen die Schwarzlinien Ihres Sujets\, schneiden Sie in den Holzstock\, anschliessend planen und schneiden Sie eine oder mehrere Farbplatten.\nDer Kurs ermöglicht aber auch allen Interessierten das Arbeiten im Bereich der Lithographie. \nDie Teilnehmenden werden individuell beraten und bei der Realisierung ihrer Projekte begleitet. \n\nLeitung: Ayako Kyodo und als Vertretung Florian Dammeyer \n\nKosten\nEin Kursabend kostet für Nichtmitglieder CHF 60\, für Mitglieder CHF 50 \nDruck-Pass für zehn Abende: CHF 500\nfür Studierende unter 25 Jahren CHF 300 \nfür Vereinsmitglieder ist das elfte Mal gratis \nDie Jahresmiete Ateliernutzung berechtigt\, den Kurs für einen Unkostenbeitrag von CHF 10 zu besuchen. \n 
URL:https://druckwerk.ch/veranstaltung/japanischer-holzschnitt-moku-hanga/2026-03-25/
LOCATION:druckwerk\, Burgweg 7\, Basel\, 4058\, Switzerland
CATEGORIES:Moku Hanga & Lithographie,Wöchentliche Kurse
ATTACH;FMTTYPE=image/jpeg:https://druckwerk.ch/wp-content/uploads/2024/12/f1c67f99278c0eaf2fb2e464ad263c0b_f1104.jpg
ORGANIZER;CN="druckwerk":MAILTO:info@druckwerk.ch
END:VEVENT
BEGIN:VEVENT
DTSTART;TZID=Europe/Zurich:20260326T140000
DTEND;TZID=Europe/Zurich:20260326T170000
DTSTAMP:20260419T192241
CREATED:20260123T094328Z
LAST-MODIFIED:20260123T102954Z
UID:10002424-1774533600-1774544400@druckwerk.ch
SUMMARY:Offene Werkstatt
DESCRIPTION:Jeden Donnerstag\, 14-17 Uhr \nWenn Sie Fragen haben oder diesen Kurs am nächsten Donnerstagnachmittag besuchen möchten\, wenden Sie sich bitte an Marcel Mayer. \nDruckgrafik als künstlerisches Ausdrucksmittel erfahren und eigene künstlerische Projekte unter fachkundiger Assistenz realisieren. \n\n\n\nDabei können alle technischen Möglichkeiten des Ateliers genutzt werden: Lithografie\, Radierung\, Holz- und Linolschnitt und Bleisatz. Es werden keine Vorkenntnisse vorausgesetzt. Individuelle Beratung und Begleitung – ambitionierte und unkonventionelle Projekte sind willkommen. \n\n\n\nLeitung: Marcel Mayer \n  \nKosten\nEin Kursabend kostet für Nichtmitglieder CHF 60\, für Mitglieder CHF 50 \nDruck-Pass für zehn Abende: CHF 500\nfür Studierende unter 25 Jahren CHF 300 \nfür Vereinsmitglieder ist das elfte Mal gratis \nDie Jahresmiete Ateliernutzung berechtigt\, den Kurs für einen Unkostenbeitrag von CHF 10 zu besuchen. \n  \nDie Offene Werkstatt findet nicht in den Schulferien statt. \n  \n\n    \n        \n            \n                \n                \n                \n                \n                \n                \n            \n        \n        \n    \n\n 
URL:https://druckwerk.ch/veranstaltung/offene-werkstatt/2026-03-26/
LOCATION:druckwerk\, Burgweg 7\, Basel\, 4058\, Switzerland
CATEGORIES:Offene Werkstatt,Wöchentliche Kurse
ATTACH;FMTTYPE=image/jpeg:https://druckwerk.ch/wp-content/uploads/2026/01/2025_Marcel-Mayer_Do_kurs_druckwerk_©margarit_lehmann--e1769161716637.jpg
ORGANIZER;CN="druckwerk":MAILTO:info@druckwerk.ch
END:VEVENT
BEGIN:VEVENT
DTSTART;TZID=Europe/Zurich:20260326T173000
DTEND;TZID=Europe/Zurich:20260326T203000
DTSTAMP:20260419T192242
CREATED:20241220T115141Z
LAST-MODIFIED:20260123T103635Z
UID:10002118-1774546200-1774557000@druckwerk.ch
SUMMARY:Bild und Schrift
DESCRIPTION:Jeden Donnerstagabend\, 17:30-20:30 Uhr \nWenn Sie Fragen haben oder diesen Kurs am nächsten Donnerstagabend besuchen möchten\, wenden Sie sich bitte an Lucinda Tanner. \nKombinieren Sie Bild und Text mit zwei Hochdrucktechniken.\nDas offene Atelier ist eine Einführung und Begleitung in den Bereich Hochdruck-\, Holz-\, und Linolschnitt\, und Buchdruck. Es werden keine Vorkenntnisse vorausgesetzt. Die Teilnehmenden werden individuell beraten und bei der Realisierung ihrer Projekte begleitet. \n\nLeitung: Lucinda Tanner (Englisch/Deutsch) \n  \nKosten\nEin Kursabend kostet für Nichtmitglieder CHF 60\, für Mitglieder CHF 50 \nDruck-Pass für zehn Abende: CHF 500\nfür Studierende unter 25 Jahren CHF 300 \nfür Vereinsmitglieder ist das elfte Mal gratis \nDie Jahresmiete Ateliernutzung berechtigt\, den Kurs für einen Unkostenbeitrag von CHF 10 zu besuchen. \n  \nDieser Kurs findet an den folgenden Daten nicht statt:\n19.02.\, 26.02.\, 02.04. und 09.04.2026 \n 
URL:https://druckwerk.ch/veranstaltung/bild-und-schrift/2026-03-26/
LOCATION:druckwerk\, Burgweg 7\, Basel\, 4058\, Switzerland
CATEGORIES:Bild und Schrift,Wöchentliche Kurse
ATTACH;FMTTYPE=image/jpeg:https://druckwerk.ch/wp-content/uploads/2024/12/Bild_und_Schrift_1-e1734695425121.jpg
ORGANIZER;CN="druckwerk":MAILTO:info@druckwerk.ch
END:VEVENT
END:VCALENDAR