BEGIN:VCALENDAR
VERSION:2.0
PRODID:-//druckwerk - ECPv6.15.14//NONSGML v1.0//EN
CALSCALE:GREGORIAN
METHOD:PUBLISH
X-ORIGINAL-URL:https://druckwerk.ch
X-WR-CALDESC:Veranstaltungen für druckwerk
REFRESH-INTERVAL;VALUE=DURATION:PT1H
X-Robots-Tag:noindex
X-PUBLISHED-TTL:PT1H
BEGIN:VTIMEZONE
TZID:Europe/Zurich
BEGIN:DAYLIGHT
TZOFFSETFROM:+0100
TZOFFSETTO:+0200
TZNAME:CEST
DTSTART:20250330T010000
END:DAYLIGHT
BEGIN:STANDARD
TZOFFSETFROM:+0200
TZOFFSETTO:+0100
TZNAME:CET
DTSTART:20251026T010000
END:STANDARD
BEGIN:DAYLIGHT
TZOFFSETFROM:+0100
TZOFFSETTO:+0200
TZNAME:CEST
DTSTART:20260329T010000
END:DAYLIGHT
BEGIN:STANDARD
TZOFFSETFROM:+0200
TZOFFSETTO:+0100
TZNAME:CET
DTSTART:20261025T010000
END:STANDARD
BEGIN:DAYLIGHT
TZOFFSETFROM:+0100
TZOFFSETTO:+0200
TZNAME:CEST
DTSTART:20270328T010000
END:DAYLIGHT
BEGIN:STANDARD
TZOFFSETFROM:+0200
TZOFFSETTO:+0100
TZNAME:CET
DTSTART:20271031T010000
END:STANDARD
END:VTIMEZONE
BEGIN:VEVENT
DTSTART;TZID=Europe/Zurich:20261104T173000
DTEND;TZID=Europe/Zurich:20261104T203000
DTSTAMP:20260420T035040
CREATED:20241220T110740Z
LAST-MODIFIED:20260106T153947Z
UID:10001571-1793813400-1793824200@druckwerk.ch
SUMMARY:Moku Hanga & Lithographie
DESCRIPTION:Jeden Mittwochabend\, 17.30-20.30 Uhr \nWenn Sie Fragen haben oder diesen Kurs am nächsten Mittwochabend besuchen möchten\, wenden Sie sich bitte an Ayako Kyodo. \nIm Kurs erlernen Sie die traditionelle Herstellung eines japanischen Holzdrucks in mehreren Farben. Sie werden in die Verwendung der japanischen Werkzeuge\, die Mixtur der Farben und der spezifischen Druckmethode eingeführt. Sie entwerfen die Schwarzlinien Ihres Sujets\, schneiden Sie in den Holzstock\, anschliessend planen und schneiden Sie eine oder mehrere Farbplatten.\nDer Kurs ermöglicht aber auch allen Interessierten das Arbeiten im Bereich der Lithographie. \nDie Teilnehmenden werden individuell beraten und bei der Realisierung ihrer Projekte begleitet. \n\nLeitung: Ayako Kyodo und als Vertretung Florian Dammeyer \n\nKosten\nEin Kursabend kostet für Nichtmitglieder CHF 60\, für Mitglieder CHF 50 \nDruck-Pass für zehn Abende: CHF 500\nfür Studierende unter 25 Jahren CHF 300 \nfür Vereinsmitglieder ist das elfte Mal gratis \nDie Jahresmiete Ateliernutzung berechtigt\, den Kurs für einen Unkostenbeitrag von CHF 10 zu besuchen. \n 
URL:https://druckwerk.ch/veranstaltung/japanischer-holzschnitt-moku-hanga/2026-11-04/
LOCATION:druckwerk\, Burgweg 7\, Basel\, 4058\, Switzerland
CATEGORIES:Moku Hanga & Lithographie,Wöchentliche Kurse
ATTACH;FMTTYPE=image/jpeg:https://druckwerk.ch/wp-content/uploads/2024/12/f1c67f99278c0eaf2fb2e464ad263c0b_f1104.jpg
ORGANIZER;CN="druckwerk":MAILTO:info@druckwerk.ch
END:VEVENT
BEGIN:VEVENT
DTSTART;TZID=Europe/Zurich:20261105T173000
DTEND;TZID=Europe/Zurich:20261105T203000
DTSTAMP:20260420T035040
CREATED:20241220T115141Z
LAST-MODIFIED:20260123T103635Z
UID:10002150-1793899800-1793910600@druckwerk.ch
SUMMARY:Bild und Schrift
DESCRIPTION:Jeden Donnerstagabend\, 17:30-20:30 Uhr \nWenn Sie Fragen haben oder diesen Kurs am nächsten Donnerstagabend besuchen möchten\, wenden Sie sich bitte an Lucinda Tanner. \nKombinieren Sie Bild und Text mit zwei Hochdrucktechniken.\nDas offene Atelier ist eine Einführung und Begleitung in den Bereich Hochdruck-\, Holz-\, und Linolschnitt\, und Buchdruck. Es werden keine Vorkenntnisse vorausgesetzt. Die Teilnehmenden werden individuell beraten und bei der Realisierung ihrer Projekte begleitet. \n\nLeitung: Lucinda Tanner (Englisch/Deutsch) \n  \nKosten\nEin Kursabend kostet für Nichtmitglieder CHF 60\, für Mitglieder CHF 50 \nDruck-Pass für zehn Abende: CHF 500\nfür Studierende unter 25 Jahren CHF 300 \nfür Vereinsmitglieder ist das elfte Mal gratis \nDie Jahresmiete Ateliernutzung berechtigt\, den Kurs für einen Unkostenbeitrag von CHF 10 zu besuchen. \n  \nDieser Kurs findet an den folgenden Daten nicht statt:\n19.02.\, 26.02.\, 02.04. und 09.04.2026 \n 
URL:https://druckwerk.ch/veranstaltung/bild-und-schrift/2026-11-05/
LOCATION:druckwerk\, Burgweg 7\, Basel\, 4058\, Switzerland
CATEGORIES:Bild und Schrift,Wöchentliche Kurse
ATTACH;FMTTYPE=image/jpeg:https://druckwerk.ch/wp-content/uploads/2024/12/Bild_und_Schrift_1-e1734695425121.jpg
ORGANIZER;CN="druckwerk":MAILTO:info@druckwerk.ch
END:VEVENT
BEGIN:VEVENT
DTSTART;TZID=Europe/Zurich:20261111T173000
DTEND;TZID=Europe/Zurich:20261111T203000
DTSTAMP:20260420T035040
CREATED:20241220T110740Z
LAST-MODIFIED:20260106T153947Z
UID:10001572-1794418200-1794429000@druckwerk.ch
SUMMARY:Moku Hanga & Lithographie
DESCRIPTION:Jeden Mittwochabend\, 17.30-20.30 Uhr \nWenn Sie Fragen haben oder diesen Kurs am nächsten Mittwochabend besuchen möchten\, wenden Sie sich bitte an Ayako Kyodo. \nIm Kurs erlernen Sie die traditionelle Herstellung eines japanischen Holzdrucks in mehreren Farben. Sie werden in die Verwendung der japanischen Werkzeuge\, die Mixtur der Farben und der spezifischen Druckmethode eingeführt. Sie entwerfen die Schwarzlinien Ihres Sujets\, schneiden Sie in den Holzstock\, anschliessend planen und schneiden Sie eine oder mehrere Farbplatten.\nDer Kurs ermöglicht aber auch allen Interessierten das Arbeiten im Bereich der Lithographie. \nDie Teilnehmenden werden individuell beraten und bei der Realisierung ihrer Projekte begleitet. \n\nLeitung: Ayako Kyodo und als Vertretung Florian Dammeyer \n\nKosten\nEin Kursabend kostet für Nichtmitglieder CHF 60\, für Mitglieder CHF 50 \nDruck-Pass für zehn Abende: CHF 500\nfür Studierende unter 25 Jahren CHF 300 \nfür Vereinsmitglieder ist das elfte Mal gratis \nDie Jahresmiete Ateliernutzung berechtigt\, den Kurs für einen Unkostenbeitrag von CHF 10 zu besuchen. \n 
URL:https://druckwerk.ch/veranstaltung/japanischer-holzschnitt-moku-hanga/2026-11-11/
LOCATION:druckwerk\, Burgweg 7\, Basel\, 4058\, Switzerland
CATEGORIES:Moku Hanga & Lithographie,Wöchentliche Kurse
ATTACH;FMTTYPE=image/jpeg:https://druckwerk.ch/wp-content/uploads/2024/12/f1c67f99278c0eaf2fb2e464ad263c0b_f1104.jpg
ORGANIZER;CN="druckwerk":MAILTO:info@druckwerk.ch
END:VEVENT
BEGIN:VEVENT
DTSTART;TZID=Europe/Zurich:20261112T173000
DTEND;TZID=Europe/Zurich:20261112T203000
DTSTAMP:20260420T035040
CREATED:20241220T115141Z
LAST-MODIFIED:20260123T103635Z
UID:10002151-1794504600-1794515400@druckwerk.ch
SUMMARY:Bild und Schrift
DESCRIPTION:Jeden Donnerstagabend\, 17:30-20:30 Uhr \nWenn Sie Fragen haben oder diesen Kurs am nächsten Donnerstagabend besuchen möchten\, wenden Sie sich bitte an Lucinda Tanner. \nKombinieren Sie Bild und Text mit zwei Hochdrucktechniken.\nDas offene Atelier ist eine Einführung und Begleitung in den Bereich Hochdruck-\, Holz-\, und Linolschnitt\, und Buchdruck. Es werden keine Vorkenntnisse vorausgesetzt. Die Teilnehmenden werden individuell beraten und bei der Realisierung ihrer Projekte begleitet. \n\nLeitung: Lucinda Tanner (Englisch/Deutsch) \n  \nKosten\nEin Kursabend kostet für Nichtmitglieder CHF 60\, für Mitglieder CHF 50 \nDruck-Pass für zehn Abende: CHF 500\nfür Studierende unter 25 Jahren CHF 300 \nfür Vereinsmitglieder ist das elfte Mal gratis \nDie Jahresmiete Ateliernutzung berechtigt\, den Kurs für einen Unkostenbeitrag von CHF 10 zu besuchen. \n  \nDieser Kurs findet an den folgenden Daten nicht statt:\n19.02.\, 26.02.\, 02.04. und 09.04.2026 \n 
URL:https://druckwerk.ch/veranstaltung/bild-und-schrift/2026-11-12/
LOCATION:druckwerk\, Burgweg 7\, Basel\, 4058\, Switzerland
CATEGORIES:Bild und Schrift,Wöchentliche Kurse
ATTACH;FMTTYPE=image/jpeg:https://druckwerk.ch/wp-content/uploads/2024/12/Bild_und_Schrift_1-e1734695425121.jpg
ORGANIZER;CN="druckwerk":MAILTO:info@druckwerk.ch
END:VEVENT
BEGIN:VEVENT
DTSTART;TZID=Europe/Zurich:20261118T173000
DTEND;TZID=Europe/Zurich:20261118T203000
DTSTAMP:20260420T035040
CREATED:20241220T110740Z
LAST-MODIFIED:20260106T153947Z
UID:10001573-1795023000-1795033800@druckwerk.ch
SUMMARY:Moku Hanga & Lithographie
DESCRIPTION:Jeden Mittwochabend\, 17.30-20.30 Uhr \nWenn Sie Fragen haben oder diesen Kurs am nächsten Mittwochabend besuchen möchten\, wenden Sie sich bitte an Ayako Kyodo. \nIm Kurs erlernen Sie die traditionelle Herstellung eines japanischen Holzdrucks in mehreren Farben. Sie werden in die Verwendung der japanischen Werkzeuge\, die Mixtur der Farben und der spezifischen Druckmethode eingeführt. Sie entwerfen die Schwarzlinien Ihres Sujets\, schneiden Sie in den Holzstock\, anschliessend planen und schneiden Sie eine oder mehrere Farbplatten.\nDer Kurs ermöglicht aber auch allen Interessierten das Arbeiten im Bereich der Lithographie. \nDie Teilnehmenden werden individuell beraten und bei der Realisierung ihrer Projekte begleitet. \n\nLeitung: Ayako Kyodo und als Vertretung Florian Dammeyer \n\nKosten\nEin Kursabend kostet für Nichtmitglieder CHF 60\, für Mitglieder CHF 50 \nDruck-Pass für zehn Abende: CHF 500\nfür Studierende unter 25 Jahren CHF 300 \nfür Vereinsmitglieder ist das elfte Mal gratis \nDie Jahresmiete Ateliernutzung berechtigt\, den Kurs für einen Unkostenbeitrag von CHF 10 zu besuchen. \n 
URL:https://druckwerk.ch/veranstaltung/japanischer-holzschnitt-moku-hanga/2026-11-18/
LOCATION:druckwerk\, Burgweg 7\, Basel\, 4058\, Switzerland
CATEGORIES:Moku Hanga & Lithographie,Wöchentliche Kurse
ATTACH;FMTTYPE=image/jpeg:https://druckwerk.ch/wp-content/uploads/2024/12/f1c67f99278c0eaf2fb2e464ad263c0b_f1104.jpg
ORGANIZER;CN="druckwerk":MAILTO:info@druckwerk.ch
END:VEVENT
BEGIN:VEVENT
DTSTART;TZID=Europe/Zurich:20261119T173000
DTEND;TZID=Europe/Zurich:20261119T203000
DTSTAMP:20260420T035041
CREATED:20241220T115141Z
LAST-MODIFIED:20260123T103635Z
UID:10002152-1795109400-1795120200@druckwerk.ch
SUMMARY:Bild und Schrift
DESCRIPTION:Jeden Donnerstagabend\, 17:30-20:30 Uhr \nWenn Sie Fragen haben oder diesen Kurs am nächsten Donnerstagabend besuchen möchten\, wenden Sie sich bitte an Lucinda Tanner. \nKombinieren Sie Bild und Text mit zwei Hochdrucktechniken.\nDas offene Atelier ist eine Einführung und Begleitung in den Bereich Hochdruck-\, Holz-\, und Linolschnitt\, und Buchdruck. Es werden keine Vorkenntnisse vorausgesetzt. Die Teilnehmenden werden individuell beraten und bei der Realisierung ihrer Projekte begleitet. \n\nLeitung: Lucinda Tanner (Englisch/Deutsch) \n  \nKosten\nEin Kursabend kostet für Nichtmitglieder CHF 60\, für Mitglieder CHF 50 \nDruck-Pass für zehn Abende: CHF 500\nfür Studierende unter 25 Jahren CHF 300 \nfür Vereinsmitglieder ist das elfte Mal gratis \nDie Jahresmiete Ateliernutzung berechtigt\, den Kurs für einen Unkostenbeitrag von CHF 10 zu besuchen. \n  \nDieser Kurs findet an den folgenden Daten nicht statt:\n19.02.\, 26.02.\, 02.04. und 09.04.2026 \n 
URL:https://druckwerk.ch/veranstaltung/bild-und-schrift/2026-11-19/
LOCATION:druckwerk\, Burgweg 7\, Basel\, 4058\, Switzerland
CATEGORIES:Bild und Schrift,Wöchentliche Kurse
ATTACH;FMTTYPE=image/jpeg:https://druckwerk.ch/wp-content/uploads/2024/12/Bild_und_Schrift_1-e1734695425121.jpg
ORGANIZER;CN="druckwerk":MAILTO:info@druckwerk.ch
END:VEVENT
BEGIN:VEVENT
DTSTART;TZID=Europe/Zurich:20261125T173000
DTEND;TZID=Europe/Zurich:20261125T203000
DTSTAMP:20260420T035041
CREATED:20241220T110740Z
LAST-MODIFIED:20260106T153947Z
UID:10001574-1795627800-1795638600@druckwerk.ch
SUMMARY:Moku Hanga & Lithographie
DESCRIPTION:Jeden Mittwochabend\, 17.30-20.30 Uhr \nWenn Sie Fragen haben oder diesen Kurs am nächsten Mittwochabend besuchen möchten\, wenden Sie sich bitte an Ayako Kyodo. \nIm Kurs erlernen Sie die traditionelle Herstellung eines japanischen Holzdrucks in mehreren Farben. Sie werden in die Verwendung der japanischen Werkzeuge\, die Mixtur der Farben und der spezifischen Druckmethode eingeführt. Sie entwerfen die Schwarzlinien Ihres Sujets\, schneiden Sie in den Holzstock\, anschliessend planen und schneiden Sie eine oder mehrere Farbplatten.\nDer Kurs ermöglicht aber auch allen Interessierten das Arbeiten im Bereich der Lithographie. \nDie Teilnehmenden werden individuell beraten und bei der Realisierung ihrer Projekte begleitet. \n\nLeitung: Ayako Kyodo und als Vertretung Florian Dammeyer \n\nKosten\nEin Kursabend kostet für Nichtmitglieder CHF 60\, für Mitglieder CHF 50 \nDruck-Pass für zehn Abende: CHF 500\nfür Studierende unter 25 Jahren CHF 300 \nfür Vereinsmitglieder ist das elfte Mal gratis \nDie Jahresmiete Ateliernutzung berechtigt\, den Kurs für einen Unkostenbeitrag von CHF 10 zu besuchen. \n 
URL:https://druckwerk.ch/veranstaltung/japanischer-holzschnitt-moku-hanga/2026-11-25/
LOCATION:druckwerk\, Burgweg 7\, Basel\, 4058\, Switzerland
CATEGORIES:Moku Hanga & Lithographie,Wöchentliche Kurse
ATTACH;FMTTYPE=image/jpeg:https://druckwerk.ch/wp-content/uploads/2024/12/f1c67f99278c0eaf2fb2e464ad263c0b_f1104.jpg
ORGANIZER;CN="druckwerk":MAILTO:info@druckwerk.ch
END:VEVENT
BEGIN:VEVENT
DTSTART;TZID=Europe/Zurich:20261126T173000
DTEND;TZID=Europe/Zurich:20261126T203000
DTSTAMP:20260420T035041
CREATED:20241220T115141Z
LAST-MODIFIED:20260123T103635Z
UID:10002153-1795714200-1795725000@druckwerk.ch
SUMMARY:Bild und Schrift
DESCRIPTION:Jeden Donnerstagabend\, 17:30-20:30 Uhr \nWenn Sie Fragen haben oder diesen Kurs am nächsten Donnerstagabend besuchen möchten\, wenden Sie sich bitte an Lucinda Tanner. \nKombinieren Sie Bild und Text mit zwei Hochdrucktechniken.\nDas offene Atelier ist eine Einführung und Begleitung in den Bereich Hochdruck-\, Holz-\, und Linolschnitt\, und Buchdruck. Es werden keine Vorkenntnisse vorausgesetzt. Die Teilnehmenden werden individuell beraten und bei der Realisierung ihrer Projekte begleitet. \n\nLeitung: Lucinda Tanner (Englisch/Deutsch) \n  \nKosten\nEin Kursabend kostet für Nichtmitglieder CHF 60\, für Mitglieder CHF 50 \nDruck-Pass für zehn Abende: CHF 500\nfür Studierende unter 25 Jahren CHF 300 \nfür Vereinsmitglieder ist das elfte Mal gratis \nDie Jahresmiete Ateliernutzung berechtigt\, den Kurs für einen Unkostenbeitrag von CHF 10 zu besuchen. \n  \nDieser Kurs findet an den folgenden Daten nicht statt:\n19.02.\, 26.02.\, 02.04. und 09.04.2026 \n 
URL:https://druckwerk.ch/veranstaltung/bild-und-schrift/2026-11-26/
LOCATION:druckwerk\, Burgweg 7\, Basel\, 4058\, Switzerland
CATEGORIES:Bild und Schrift,Wöchentliche Kurse
ATTACH;FMTTYPE=image/jpeg:https://druckwerk.ch/wp-content/uploads/2024/12/Bild_und_Schrift_1-e1734695425121.jpg
ORGANIZER;CN="druckwerk":MAILTO:info@druckwerk.ch
END:VEVENT
END:VCALENDAR