BEGIN:VCALENDAR
VERSION:2.0
PRODID:-//druckwerk - ECPv6.15.14//NONSGML v1.0//EN
CALSCALE:GREGORIAN
METHOD:PUBLISH
X-ORIGINAL-URL:https://druckwerk.ch
X-WR-CALDESC:Veranstaltungen für druckwerk
REFRESH-INTERVAL;VALUE=DURATION:PT1H
X-Robots-Tag:noindex
X-PUBLISHED-TTL:PT1H
BEGIN:VTIMEZONE
TZID:Europe/Zurich
BEGIN:DAYLIGHT
TZOFFSETFROM:+0100
TZOFFSETTO:+0200
TZNAME:CEST
DTSTART:20110327T010000
END:DAYLIGHT
BEGIN:STANDARD
TZOFFSETFROM:+0200
TZOFFSETTO:+0100
TZNAME:CET
DTSTART:20111030T010000
END:STANDARD
BEGIN:DAYLIGHT
TZOFFSETFROM:+0100
TZOFFSETTO:+0200
TZNAME:CEST
DTSTART:20120325T010000
END:DAYLIGHT
BEGIN:STANDARD
TZOFFSETFROM:+0200
TZOFFSETTO:+0100
TZNAME:CET
DTSTART:20121028T010000
END:STANDARD
BEGIN:DAYLIGHT
TZOFFSETFROM:+0100
TZOFFSETTO:+0200
TZNAME:CEST
DTSTART:20130331T010000
END:DAYLIGHT
BEGIN:STANDARD
TZOFFSETFROM:+0200
TZOFFSETTO:+0100
TZNAME:CET
DTSTART:20131027T010000
END:STANDARD
BEGIN:DAYLIGHT
TZOFFSETFROM:+0100
TZOFFSETTO:+0200
TZNAME:CEST
DTSTART:20140330T010000
END:DAYLIGHT
BEGIN:STANDARD
TZOFFSETFROM:+0200
TZOFFSETTO:+0100
TZNAME:CET
DTSTART:20141026T010000
END:STANDARD
BEGIN:DAYLIGHT
TZOFFSETFROM:+0100
TZOFFSETTO:+0200
TZNAME:CEST
DTSTART:20150329T010000
END:DAYLIGHT
BEGIN:STANDARD
TZOFFSETFROM:+0200
TZOFFSETTO:+0100
TZNAME:CET
DTSTART:20151025T010000
END:STANDARD
BEGIN:DAYLIGHT
TZOFFSETFROM:+0100
TZOFFSETTO:+0200
TZNAME:CEST
DTSTART:20160327T010000
END:DAYLIGHT
BEGIN:STANDARD
TZOFFSETFROM:+0200
TZOFFSETTO:+0100
TZNAME:CET
DTSTART:20161030T010000
END:STANDARD
BEGIN:DAYLIGHT
TZOFFSETFROM:+0100
TZOFFSETTO:+0200
TZNAME:CEST
DTSTART:20170326T010000
END:DAYLIGHT
BEGIN:STANDARD
TZOFFSETFROM:+0200
TZOFFSETTO:+0100
TZNAME:CET
DTSTART:20171029T010000
END:STANDARD
END:VTIMEZONE
BEGIN:VEVENT
DTSTART;TZID=Europe/Zurich:20160614T100000
DTEND;TZID=Europe/Zurich:20160619T170000
DTSTAMP:20260423T060240
CREATED:20250218T164644Z
LAST-MODIFIED:20250218T164644Z
UID:10000366-1465898400-1466355600@druckwerk.ch
SUMMARY:Liste Art Fair
DESCRIPTION:An der Liste Art Fair 2016 gastierte die Kunsthalle Zürich im druckwerk. Unter dem Titel „RATZ FATZ ZAUBER WAS – Fairs and Fairy Tales“ wurden auf den in skulpturale Wesen verwandelten Druckpressen über 200 Kinderbücher der 70er Jahre präsentiert.
URL:https://druckwerk.ch/veranstaltung/liste-art-fair/
LOCATION:druckwerk\, Burgweg 7\, Basel\, 4058\, Switzerland
CATEGORIES:Öffentliche events
ATTACH;FMTTYPE=image/jpeg:https://druckwerk.ch/wp-content/uploads/2025/02/503f3df025fd975ca51bdfa6a3dbd7e0_f112.jpg
ORGANIZER;CN="druckwerk":MAILTO:info@druckwerk.ch
END:VEVENT
BEGIN:VEVENT
DTSTART;TZID=Europe/Zurich:20160613T090000
DTEND;TZID=Europe/Zurich:20160615T173000
DTSTAMP:20260423T060240
CREATED:20250217T171725Z
LAST-MODIFIED:20250217T171800Z
UID:10000321-1465808400-1466011800@druckwerk.ch
SUMMARY:Queens University of North Carolina
DESCRIPTION:Mike Wirth druckt seine erste Lithografie! \nMit 21 Studierenden arbeitete er während einem dreitägigen Workshop im druckwerk.\nEs entstand ein gemeinsames typografisches Plakat\, individuelle Radierungen und eine Lithographie. \n  \n  \n \n 
URL:https://druckwerk.ch/veranstaltung/queens-university-of-north-carolina/
LOCATION:druckwerk\, Burgweg 7\, Basel\, 4058\, Switzerland
CATEGORIES:Fachklasse,Private Workshops
ATTACH;FMTTYPE=image/png:https://druckwerk.ch/wp-content/uploads/2025/02/Capture-decran-2025-02-17-a-18.12.00.png
ORGANIZER;CN="druckwerk":MAILTO:info@druckwerk.ch
END:VEVENT
BEGIN:VEVENT
DTSTART;TZID=Europe/Zurich:20140117T180000
DTEND;TZID=Europe/Zurich:20140118T010000
DTSTAMP:20260423T060240
CREATED:20250218T165535Z
LAST-MODIFIED:20250218T170328Z
UID:10000368-1389981600-1390006800@druckwerk.ch
SUMMARY:Museumsnacht
DESCRIPTION:Der Zürcher Künstler Eric Andersen druckte Plakate. \nUnter dem Titel „Kunst drucken“ präsentierte sich druckwerk als Gastinstitution und bot ein vielfältiges Angebot zum Mitmachen an\, vom Stempeldruck über den Handdrucktiegel bis zur Buchstabensuppe. Der Anlass zählte über 600 Besucher.
URL:https://druckwerk.ch/veranstaltung/museumsnacht-2014/
LOCATION:druckwerk\, Burgweg 7\, Basel\, 4058\, Switzerland
CATEGORIES:Öffentliche events
ATTACH;FMTTYPE=image/jpeg:https://druckwerk.ch/wp-content/uploads/2025/02/2014-Baslermuseumsnacht.jpg
ORGANIZER;CN="druckwerk":MAILTO:info@druckwerk.ch
END:VEVENT
BEGIN:VEVENT
DTSTART;TZID=Europe/Zurich:20131113T090000
DTEND;TZID=Europe/Zurich:20131113T173000
DTSTAMP:20260423T060240
CREATED:20250217T170925Z
LAST-MODIFIED:20250217T170925Z
UID:10000320-1384333200-1384363800@druckwerk.ch
SUMMARY:Hyperwerk - FHNW/HGK Basel
DESCRIPTION:Workshop mit Hyperwerk \nIn regelmässigen Intervallen führt druckwerk themenspezifische Workshops mit Instituten der Fachhochschule Basel durch. \nNach Absprache werden unterschiedliche Techniken vermittelt und in einem Endprodukt umgesetzt.
URL:https://druckwerk.ch/veranstaltung/hyperwerk-fhnw-hgk-basel/
LOCATION:druckwerk\, Burgweg 7\, Basel\, 4058\, Switzerland
CATEGORIES:Fachklasse,Private Workshops
ATTACH;FMTTYPE=image/jpeg:https://druckwerk.ch/wp-content/uploads/2025/02/5da53eacc9a37daf679f6c2504b9ea4a_f85.jpg
ORGANIZER;CN="druckwerk":MAILTO:info@druckwerk.ch
END:VEVENT
BEGIN:VEVENT
DTSTART;TZID=Europe/Zurich:20130515T090000
DTEND;TZID=Europe/Zurich:20130516T170000
DTSTAMP:20260423T060240
CREATED:20250217T164107Z
LAST-MODIFIED:20250217T165239Z
UID:10000317-1368608400-1368723600@druckwerk.ch
SUMMARY:Kidshotel
DESCRIPTION:Workshop mit Kindern  \nIn Zusammenarbeit mit dem Quartiertreffpunkt Burg mehrfach durchgeführte Veranstaltung. \nIm zweitägigen Workshop mit Kindern zwischen 7 und 12 Jahren wurden T-Shirts bedruckt\, Texte gesetzt\, Büchlein gebunden und Tief- und Hochdruckarbeiten realisiert.
URL:https://druckwerk.ch/veranstaltung/kidshotel/
LOCATION:druckwerk\, Burgweg 7\, Basel\, 4058\, Switzerland
CATEGORIES:Druck dich aus,Private Workshops
ATTACH;FMTTYPE=image/jpeg:https://druckwerk.ch/wp-content/uploads/2025/02/849768714db85694043b4edc8c9647f7_f86.jpg
ORGANIZER;CN="druckwerk":MAILTO:info@druckwerk.ch
END:VEVENT
BEGIN:VEVENT
DTSTART;TZID=Europe/Zurich:20120616T100000
DTEND;TZID=Europe/Zurich:20120617T170000
DTSTAMP:20260423T060240
CREATED:20250218T165321Z
LAST-MODIFIED:20250218T170227Z
UID:10000367-1339840800-1339952400@druckwerk.ch
SUMMARY:Plakatprojekt
DESCRIPTION:Eingeladene GestalterInnen realisierten im druckwerk ein Plakat zu einer Basler Ausstellungsinstitution. Die Plakate wurden im öffentlichen Raum ausgehängt. \nMit Plakaten von Marco Papyro\, Lukas Zimmermann\, Dan Sollbach\, Büro 146 (Valentin Hindemann\, Madelain Stahel und Maike Hamacher)\, Marcel Göhring und Florian Dammeyer.
URL:https://druckwerk.ch/veranstaltung/plakatprojekt/
LOCATION:druckwerk\, Burgweg 7\, Basel\, 4058\, Switzerland
CATEGORIES:Öffentliche events
ATTACH;FMTTYPE=image/jpeg:https://druckwerk.ch/wp-content/uploads/2025/02/2012-Plakatprojekt.jpg
ORGANIZER;CN="druckwerk":MAILTO:info@druckwerk.ch
END:VEVENT
END:VCALENDAR